BEGIN:VCALENDAR
VERSION:2.0
PRODID:-//ChamberMaster//Event Calendar 2.0//EN
METHOD:PUBLISH
X-PUBLISHED-TTL:P3D
REFRESH-INTERVAL:P3D
CALSCALE:GREGORIAN
BEGIN:VEVENT
DTSTART:20240926T210000Z
DTEND:20240926T233000Z
X-MICROSOFT-CDO-ALLDAYEVENT:FALSE
SUMMARY:Women Leading: Ogdensburg
DESCRIPTION:Women Leading: Ogdensburg\n\n \n\nThe Frederic Remington Museum has partnered with the Women's Leadership Initiative of the North Country to present a panel of successful women in Ogdensburg. The goal of this event is to empower and motivate women in Ogdensburg to pursue their entrepreneurial and professional dreams.\n\n \n\nThe event will begin at 5:00pm and will start with a tour of the Museum. A cash bar with Hosmer's will be on site and simple hors d'oeuvres will be available.\n\n \n\nAt 6:00pm we will begin the panel and will pose each panelist several questions before opening the floor to questions from the audience.\n\n \n\nAfter the panel they encourage people to mingle and network until 7:00pm.
X-ALT-DESC;FMTTYPE=text/html:<div><span style="font-size:18px\;"><strong>Women Leading: Ogdensburg</strong></span><br />\n&nbsp\;</div>\n\n<div>The Frederic Remington Museum has partnered with the Women&#39\;s Leadership Initiative of the North Country to present a panel of successful women in Ogdensburg. The goal of this event is to empower and motivate women in Ogdensburg to pursue their entrepreneurial and professional dreams.<br />\n&nbsp\;</div>\n\n<div>The event will begin at 5:00pm and will start with a tour of the Museum. A cash bar with Hosmer&#39\;s will be on site and simple hors d&#39\;oeuvres will be available.<br />\n&nbsp\;</div>\n\n<div>At 6:00pm we will begin the panel and will pose each panelist several questions before opening the floor to questions from the audience.<br />\n&nbsp\;</div>\n\n<div>After the panel they encourage people to mingle and network until 7:00pm.</div>\n
LOCATION:The Frederic Remington Art Museum 311 Washington Street Ogdensburg\, NY 13669
UID:e.2288.18644
SEQUENCE:3
DTSTAMP:20260422T020257Z
URL:https://business.visitstlc.com/events/details/women-leading-ogdensburg-18644
END:VEVENT

END:VCALENDAR
