BEGIN:VCALENDAR
VERSION:2.0
PRODID:-//ChamberMaster//Event Calendar 2.0//EN
METHOD:PUBLISH
X-PUBLISHED-TTL:P3D
REFRESH-INTERVAL:P3D
CALSCALE:GREGORIAN
BEGIN:VEVENT
DTSTART;VALUE=DATE:20250410
DTEND;VALUE=DATE:20250414
TRANSP:TRANSPARENT
X-MICROSOFT-CDO-ALLDAYEVENT:TRUE
SUMMARY:Urinetown: The Musical
DESCRIPTION:Urinetown: The Musical\n\nThis musical is a humorous romp that leaves no one spared--corrupt politicians\, greedy CEOS\, universities\, revolutionaries\, and even other musicals. The fun and the revolution runs April 10-13 at St. Lawrence University.\n\n\n\nAbout the Musical\n\nIn a Gotham-like city\, a terrible water shortage\, caused by a 20-year drought has led to a government-enforced ban on private toilets. The citizens must use public toilets\, regulated by a single malevolent company run by a cruel CEO that profits by charging admission for one of humanity's most basic needs. Amid the people a hero decides he's had enough\, and plans a revolution to lead them all to freedom!
X-ALT-DESC;FMTTYPE=text/html:<span style="font-size:18px\;"><strong>Urinetown: The Musical</strong></span><br />\nThis musical is a humorous romp that leaves no one spared--corrupt politicians\, greedy CEOS\, universities\, revolutionaries\, and even other musicals. The fun and the revolution runs April 10-13 at St. Lawrence University.<br />\n<br />\n<span style="font-size:18px\;">About the Musical</span><br />\nIn a Gotham-like city\, a terrible water shortage\, caused by a 20-year drought has led to a government-enforced ban on private toilets. The citizens must use public toilets\, regulated by a single malevolent company run by a cruel CEO that profits by charging admission for one of humanity&#39\;s most basic needs. Amid the people a hero decides he&#39\;s had enough\, and plans a revolution to lead them all to freedom!&nbsp\;
LOCATION:St. Lawrence University Noble Center | Gulick Theatre 23 Romoda Dr.\, Canton\, NY 13617 View Campus Map
UID:e.2288.20051
SEQUENCE:3
DTSTAMP:20260421T155028Z
URL:https://business.visitstlc.com/events/details/urinetown-the-musical-20051
END:VEVENT

END:VCALENDAR
