BEGIN:VCALENDAR
VERSION:2.0
PRODID:-//ChamberMaster//Event Calendar 2.0//EN
METHOD:PUBLISH
X-PUBLISHED-TTL:P3D
REFRESH-INTERVAL:P3D
CALSCALE:GREGORIAN
BEGIN:VEVENT
DTSTART:20240720T140000Z
DTEND:20240720T190000Z
X-MICROSOFT-CDO-ALLDAYEVENT:FALSE
SUMMARY:Trout Lake Arts on the Water
DESCRIPTION:TROUT LAKE ARTS ON THE WATER\n\n\n\nEnjoy a day on the water with a group of local artisans\, live music\, and food! Numerous artists who live\, or have family on Trout Lake will displaying items for purchase. Visit with artisans featuring woodworking\, fiber arts\, silver jewelry\, Adirondack walking sticks\, maple products\, plein air painting\, pottery\, barn quilts\, Trout Lake merchandise and more. Rain or shine\, free and open to the public.
X-ALT-DESC;FMTTYPE=text/html:<span style="font-size:20px\;"><strong>TROUT LAKE ARTS ON THE WATER</strong></span><br />\n<br />\nEnjoy a day on the water with a group of local artisans\, live music\, and food!&nbsp\;Numerous artists who live\, or have family on Trout Lake will displaying items for purchase.&nbsp\;Visit with artisans featuring woodworking\, fiber arts\, silver jewelry\, Adirondack walking sticks\, maple products\, plein air painting\, pottery\, barn quilts\, Trout Lake merchandise and more. Rain or shine\, free and open to the public.
LOCATION:Trout Lake Maple 676 CR 19 Hermon\, NY
UID:e.2288.17947
SEQUENCE:3
DTSTAMP:20260419T220833Z
URL:https://business.visitstlc.com/events/details/trout-lake-arts-on-the-water-17947
END:VEVENT

END:VCALENDAR
