BEGIN:VCALENDAR
VERSION:2.0
PRODID:-//ChamberMaster//Event Calendar 2.0//EN
METHOD:PUBLISH
X-PUBLISHED-TTL:P3D
REFRESH-INTERVAL:P3D
CALSCALE:GREGORIAN
BEGIN:VEVENT
DTSTART:20240713T230000Z
DTEND:20240714T010000Z
X-MICROSOFT-CDO-ALLDAYEVENT:FALSE
SUMMARY:The Edwards Opera House Summer Series Presents: Comedy Night
DESCRIPTION:The Edwards Opera House Summer Series Presents:\n\nCOMEDY NIGHT\n\n\n\nTickets are $15 per person. Pre-purchase your tickets online HERE.
X-ALT-DESC;FMTTYPE=text/html:<span style="font-size: 20px\;">The Edwards Opera House Summer Series Presents:</span><br style="font-size: 20px\;" />\n<span style="font-size: 20px\;"><b>COMEDY NIGHT</b></span><br style="font-size: 20px\;" />\n<br />\nTickets are $15 per person. Pre-purchase your tickets online&nbsp\;<a href="https://edwardsoperahouse.com/tickets" target="_blank">HERE</a>.&nbsp\;
LOCATION:Edwards Opera House 161 Main Street Edwards\, NY 13635
UID:e.2288.17650
SEQUENCE:3
DTSTAMP:20260419T220735Z
URL:https://business.visitstlc.com/events/details/the-edwards-opera-house-summer-series-presents-comedy-night-17650
END:VEVENT

END:VCALENDAR
