BEGIN:VCALENDAR
VERSION:2.0
PRODID:-//ChamberMaster//Event Calendar 2.0//EN
METHOD:PUBLISH
X-PUBLISHED-TTL:P3D
REFRESH-INTERVAL:P3D
CALSCALE:GREGORIAN
BEGIN:VEVENT
DTSTART:20251206T150000Z
DTEND:20251206T210000Z
X-MICROSOFT-CDO-ALLDAYEVENT:FALSE
SUMMARY:TAUNY Holiday Open House and Sugar & Spice Gingerbread Contest
DESCRIPTION:TAUNY Holiday Open House & Gingerbread Contest 2025\n\nTraditional Arts in Upstate New York (TAUNY) is proud to announce its annual Holiday Open House & Sugar & Spice Gingerbread Contest! This annual highlight features live traditional music\, festive foodways\, and hands-on holiday workshops for all ages.\n\n\n\nThe event is free and open to the public (donations are appreciated) and is the perfect opportunity to shop local\, as the Folkstore is open all day featuring traditional art and gifts from over 150 local artisans (jewelry\, ceramics\, woodworking\, foods\, and more!).\n\n\n\n\n\nDate: Saturday\, December 6th\, 2025\n\n\n\nTime: 10:00 AM   4:00 PM\n\n\n\nLocation: The TAUNY Center\, 53 Main Street\, Canton\, NY\n\n\n\nCost: Free (Donations to the Year-End Appeal are appreciated at www.tauny.org)\n\n\n\nHighlights & Activities\n\nMusic: Performance by the Madstop Fiddlers led by Gretchen Koehler.\n\n\n\nHands-On: Instrument Petting Zoo (try traditional instruments!)\, Candlemaking Workshop (with Ginger Sweeney)\, and Gingerbread House Making Workshop (with Sue Wilder).\n\n\n\nShopping: The Folkstore is open all day\, with new holiday gift collections from 150+ local artisans.\n\n\n\n  Holiday Open House Schedule\n\n10:00 AM   12:00 PM: Gingerbread House Making Workshop*\n\n\n\n10:00 AM   1:00 PM: Cookie Making in the TAUNY Kitchen\n\n\n\n11:30 AM   12:30 PM: Instrument Petting Zoo\n\n\n\n1:00 PM   2:00 PM: MadStop Fiddlers Concert with Gretchen Koehler\n\n\n\n2:00 PM   3:30 PM: Holiday Fragrances Beeswax Candlemaking Workshop*\n\n\n\n*Note: Workshops may require pre-registration or limited seating. Please check TAUNY's website for full details.
X-ALT-DESC;FMTTYPE=text/html:<strong>&#127876\; TAUNY Holiday Open House &amp\; Gingerbread Contest 2025</strong><br />\nTraditional Arts in Upstate New York (TAUNY) is proud to announce its annual Holiday Open House &amp\; Sugar &amp\; Spice Gingerbread Contest! This annual highlight features live traditional music\, festive foodways\, and hands-on holiday workshops for all ages.<br />\n<br />\nThe event is free and open to the public (donations are appreciated) and is the perfect opportunity to shop local\, as the Folkstore is open all day featuring traditional art and gifts from over 150 local artisans (jewelry\, ceramics\, woodworking\, foods\, and more!).<br />\n<br />\n<br />\nDate: Saturday\, December 6th\, 2025<br />\n<br />\nTime: 10:00 AM &ndash\; 4:00 PM<br />\n<br />\nLocation: The TAUNY Center\, 53 Main Street\, Canton\, NY<br />\n<br />\nCost: Free (Donations to the Year-End Appeal are appreciated at www.tauny.org)<br />\n<br />\nHighlights &amp\; Activities<br />\nMusic: Performance by the Madstop Fiddlers led by Gretchen Koehler.<br />\n<br />\nHands-On: Instrument Petting Zoo (try traditional instruments!)\, Candlemaking Workshop (with Ginger Sweeney)\, and Gingerbread House Making Workshop (with Sue Wilder).<br />\n<br />\nShopping: The Folkstore is open all day\, with new holiday gift collections from 150+ local artisans.<br />\n<br />\n&#128197\; Holiday Open House Schedule<br />\n10:00 AM &ndash\; 12:00 PM: Gingerbread House Making Workshop*<br />\n<br />\n10:00 AM &ndash\; 1:00 PM: Cookie Making in the TAUNY Kitchen<br />\n<br />\n11:30 AM &ndash\; 12:30 PM: Instrument Petting Zoo<br />\n<br />\n1:00 PM &ndash\; 2:00 PM: MadStop Fiddlers Concert with Gretchen Koehler<br />\n<br />\n2:00 PM &ndash\; 3:30 PM: Holiday Fragrances Beeswax Candlemaking Workshop*<br />\n<br />\n*Note: Workshops may require pre-registration or limited seating. Please check TAUNY&#39\;s website for full details.\n<p 0px="" 1.15="" google="" line-height:="" margin-top:="" sans="" sans-serif="" style="font-family: ">&nbsp\;</p>\n\n<h3 0px="" 1.15="" google="" line-height:="" margin-top:="" sans-serif="" style="font-family: ">&nbsp\;</h3>\n
LOCATION:TAUNY 53 Main Street Canton\, NY 13617
UID:e.2288.20673
SEQUENCE:3
DTSTAMP:20260420T171037Z
URL:https://business.visitstlc.com/events/details/tauny-holiday-open-house-and-sugar-spice-gingerbread-contest-20673
END:VEVENT

END:VCALENDAR
