BEGIN:VCALENDAR
VERSION:2.0
PRODID:-//ChamberMaster//Event Calendar 2.0//EN
METHOD:PUBLISH
X-PUBLISHED-TTL:P3D
REFRESH-INTERVAL:P3D
CALSCALE:GREGORIAN
BEGIN:VEVENT
DTSTART:20240713T150000Z
DTEND:20240713T160000Z
X-MICROSOFT-CDO-ALLDAYEVENT:FALSE
SUMMARY:Spanish Language Story Time
DESCRIPTION:SPANISH LANGUAGE STORY TIME\n\nStory time for Spanish speakers and learners. Ages 3 and up.
X-ALT-DESC;FMTTYPE=text/html:<span style="font-size:20px\;"><strong>SPANISH LANGUAGE STORY TIME</strong></span><br />\nStory time for Spanish speakers and learners. Ages 3 and up.
LOCATION:Ogdensburg Public Library 312 Washington St\, Ogdensburg\, NY
UID:e.2288.17983
SEQUENCE:3
DTSTAMP:20260419T220348Z
URL:https://business.visitstlc.com/events/details/spanish-language-story-time-17983
END:VEVENT

END:VCALENDAR
