BEGIN:VCALENDAR
VERSION:2.0
PRODID:-//ChamberMaster//Event Calendar 2.0//EN
METHOD:PUBLISH
X-PUBLISHED-TTL:P3D
REFRESH-INTERVAL:P3D
CALSCALE:GREGORIAN
BEGIN:VEVENT
DTSTART:20240708T180000Z
DTEND:20240708T190000Z
X-MICROSOFT-CDO-ALLDAYEVENT:FALSE
SUMMARY:River Science: Tern Time
DESCRIPTION:RIVER SCIENCE\n\nIt's Hard Being a Tern! Learn all about Common Terns and play a game to see if you would survive as a Tern. Presented by Save the River. Ages: 9-12
X-ALT-DESC;FMTTYPE=text/html:<strong style="font-size: 20px\;">RIVER SCIENCE</strong><br />\nIt&#39\;s Hard Being a Tern! Learn all about Common Terns and play a game to see if you would survive as a Tern. Presented by Save the River. Ages: 9-12
LOCATION:Ogdensburg Public Library 312 Washington Street Ogdensburg\, NY
UID:e.2288.17995
SEQUENCE:3
DTSTAMP:20260419T214235Z
URL:https://business.visitstlc.com/events/details/river-science-tern-time-17995
END:VEVENT

END:VCALENDAR
