BEGIN:VCALENDAR
VERSION:2.0
PRODID:-//ChamberMaster//Event Calendar 2.0//EN
METHOD:PUBLISH
X-PUBLISHED-TTL:P3D
REFRESH-INTERVAL:P3D
CALSCALE:GREGORIAN
BEGIN:VEVENT
DTSTART;VALUE=DATE:20240713
DTEND;VALUE=DATE:20240714
TRANSP:TRANSPARENT
X-MICROSOFT-CDO-ALLDAYEVENT:TRUE
SUMMARY:Postwood Park Triathlon
DESCRIPTION:POSTWOOD PARK TRIATHLON\n\nThe Town of Potsdam Recreational Dept. is hosting a recreational Triathlon competition on Saturday\, July 13th with two divisions\, for kids and adults. \n\n\n\nThe triathlon is a sport that has gained popularity in recent years. Whether you are a serious swimmer\, cyclist or runner\, or an average recreational athlete\, you can enjoy this time trial which includes swimming/kayaking\, cycling and running. The triathlon is used by some as a training tool to sharpen their skills. To others\, it offers the personal challenge of developing fitness in three different activities.\n\n\n\nKids Triathlon (Ages 5-10)\n\nBegins at 8:00am\, pre-register HERE\n\n	100-Yard Swim\n	2-Mile Bike\n	1-Mile Run\n\nAdult Triathlon (Ages 10+)\n\nBegins at 9:00am\, pre-register HERE\n\n\n	1/4-Mile Swim (or 1-Mile Kayak)\n	8-Mile Bike\n	1.5-Mile Run
X-ALT-DESC;FMTTYPE=text/html:<span style="font-size:20px\;"><strong>POSTWOOD PARK TRIATHLON</strong></span><br />\nThe Town of Potsdam Recreational Dept. is hosting a recreational Triathlon competition on Saturday\, July 13th with two divisions\, for kids and adults.&nbsp\;<br />\n<br />\nThe triathlon is a sport that has gained popularity in recent years. Whether you are a serious swimmer\, cyclist or runner\, or an average recreational athlete\, you can enjoy this time trial which includes swimming/kayaking\, cycling and running. The triathlon is used by some as a training tool to sharpen their skills. To others\, it offers the personal challenge of developing fitness in three different activities.<br />\n<br />\n<strong><span style="font-size:18px\;">Kids Triathlon (Ages 5-10)</span><br />\n<a href="https://docs.google.com/forms/d/e/1FAIpQLSfd3yBHDUKMg0a40aa8gxU42DepNr-5h2r5H_pV5vxkhkKOfw/viewform?fbclid=IwZXh0bgNhZW0CMTAAAR1BDp04LliIz5u-8KZJrLM7yWSN8DpD2v4eAw8cdI5UiFIAVGhvzwn8lbM_aem__qT6g7bdZw0WzlrHmjqLpA" target="_blank">Begins at 8:00am\, pre-register HERE</a></strong>\n<ul>\n	<li>100-Yard Swim</li>\n	<li>2-Mile Bike</li>\n	<li>1-Mile Run</li>\n</ul>\n<strong><span style="font-size: 18px\;">Adult Triathlon (Ages 10+)</span><br />\n<a href="https://docs.google.com/forms/d/e/1FAIpQLSfd3yBHDUKMg0a40aa8gxU42DepNr-5h2r5H_pV5vxkhkKOfw/viewform?fbclid=IwZXh0bgNhZW0CMTAAAR1BDp04LliIz5u-8KZJrLM7yWSN8DpD2v4eAw8cdI5UiFIAVGhvzwn8lbM_aem__qT6g7bdZw0WzlrHmjqLpA" target="_blank">Begins at 9:00am\,&nbsp\;pre-register HERE</a></strong>\n\n<ul>\n	<li>1/4-Mile Swim (or 1-Mile Kayak)</li>\n	<li>8-Mile Bike</li>\n	<li>1.5-Mile Run</li>\n</ul>\n
LOCATION:Postwood Park 63 Postwood Park Rd. Hannawa Falls\, NY
UID:e.2288.18005
SEQUENCE:3
DTSTAMP:20260419T220433Z
URL:https://business.visitstlc.com/events/details/postwood-park-triathlon-18005
END:VEVENT

END:VCALENDAR
