BEGIN:VCALENDAR
VERSION:2.0
PRODID:-//ChamberMaster//Event Calendar 2.0//EN
METHOD:PUBLISH
X-PUBLISHED-TTL:P3D
REFRESH-INTERVAL:P3D
CALSCALE:GREGORIAN
BEGIN:VEVENT
DTSTART:20240703T170000Z
DTEND:20240703T174500Z
X-MICROSOFT-CDO-ALLDAYEVENT:FALSE
SUMMARY:Popsicle Stick Flag Crafts for Kids
DESCRIPTION:POPSICLE STICK FLAG CRAFTS FOR KIDS\n\nCraft time at the library. Ages: 3-12
X-ALT-DESC;FMTTYPE=text/html:<span style="font-size:20px\;"><strong>POPSICLE STICK FLAG CRAFTS FOR KIDS</strong></span><br />\nCraft time at the library. Ages: 3-12
LOCATION:Ogdensburg Public Library 312 Washington St\, Ogdensburg\, NY
UID:e.2288.17979
SEQUENCE:3
DTSTAMP:20260419T220640Z
URL:https://business.visitstlc.com/events/details/popsicle-stick-flag-crafts-for-kids-17979
END:VEVENT

END:VCALENDAR
