BEGIN:VCALENDAR
VERSION:2.0
PRODID:-//ChamberMaster//Event Calendar 2.0//EN
METHOD:PUBLISH
X-PUBLISHED-TTL:P3D
REFRESH-INTERVAL:P3D
CALSCALE:GREGORIAN
BEGIN:VEVENT
DTSTART:20250423T210000Z
DTEND:20250423T230000Z
X-MICROSOFT-CDO-ALLDAYEVENT:FALSE
SUMMARY:Poetry Open Mic Night
DESCRIPTION:Celebrate National Poetry Month with St. Lawrence Area Poets (SLAP). All poets and friends of poetry are welcome. Part of Massena SpringFest!
X-ALT-DESC;FMTTYPE=text/html:<span style="font-family:aptos\,sans-serif\;"><span style="font-size:12.0pt\;">Celebrate National Poetry Month with St. Lawrence Area Poets (SLAP). All poets and friends of poetry are welcome. Part of <a href="https://business.visitstlc.com/events/details/massena-springfest-20078?calendarMonth=2025-04-01">Massena SpringFest</a>!</span></span>
LOCATION:Massena Public Library 41 Glenn Street\, Massena
UID:e.2288.20161
SEQUENCE:3
DTSTAMP:20260421T111912Z
URL:https://business.visitstlc.com/events/details/poetry-open-mic-night-20161
END:VEVENT

END:VCALENDAR
