BEGIN:VCALENDAR
VERSION:2.0
PRODID:-//ChamberMaster//Event Calendar 2.0//EN
METHOD:PUBLISH
X-PUBLISHED-TTL:P3D
REFRESH-INTERVAL:P3D
CALSCALE:GREGORIAN
BEGIN:VEVENT
DTSTART:20250426T140000Z
DTEND:20250426T180000Z
X-MICROSOFT-CDO-ALLDAYEVENT:FALSE
SUMMARY:Pineapple Welcome Canvas Workshop
DESCRIPTION:Pineapple Welcome Canvas Workshop\n\n\n\nLori McElhearn guides students through creating a 12" X 12" canvas of this design by Mary Jo Tuttle. Create a piece of art that symbolizes warmth and hospitality. No experience necessary. All materials provided. Maximum 10 so sign up early! Must pre-register at www.lakestlawrnecearts.com\, email lakesaintlawrencearts@gmail.com\, or call 315-705-1241 or 315-705-5198.
X-ALT-DESC;FMTTYPE=text/html:<span style="font-size:18px\;"><strong>Pineapple Welcome Canvas Workshop</strong></span><br />\n<br />\nLori McElhearn guides students through creating a 12&rdquo\; X 12&rdquo\; canvas of this design by Mary Jo Tuttle. Create a piece of art that symbolizes warmth and hospitality. No experience necessary. All materials provided. Maximum 10 so sign up early! Must pre-register at www.lakestlawrnecearts.com\, email lakesaintlawrencearts@gmail.com\, or call 315-705-1241 or 315-705-5198.
LOCATION:The Gallery at Lake St. Lawrence Arts 14 Main Street\, Waddington
UID:e.2288.20152
SEQUENCE:3
DTSTAMP:20260421T154829Z
URL:https://business.visitstlc.com/events/details/pineapple-welcome-canvas-workshop-20152
END:VEVENT

END:VCALENDAR
