BEGIN:VCALENDAR
VERSION:2.0
PRODID:-//ChamberMaster//Event Calendar 2.0//EN
METHOD:PUBLISH
X-PUBLISHED-TTL:P3D
REFRESH-INTERVAL:P3D
CALSCALE:GREGORIAN
BEGIN:VEVENT
DTSTART:20240719T223000Z
DTEND:20240720T000000Z
X-MICROSOFT-CDO-ALLDAYEVENT:FALSE
SUMMARY:NuN Hunt for History Paddle
DESCRIPTION:HUNT FOR HISTORY PADDLE\n\nHelp Nature Up North find remnants of the logging history of the North Country\, right on the Grasse River! On this paddle\, you'll leave the Little River Boat launch in search of buried treasure (stone piles) deep beneath the waves of the Grasse River.\n\n\n\nLong ago\, loggers would pile stones in the Grasse River to block it in the fall and log through the winter. In the spring\, they would remove the dams and let the spring floods carry logs downstream to mills along the shore. At low water\, the remnants of these dams are still visible beneath the waves.\n\n\n\nRegister HERE to join Nature Up North on the paddle and let them know if you'll need canoes\, paddles\, or lifejackets!
X-ALT-DESC;FMTTYPE=text/html:<span style="font-size:20px\;"><strong>HUNT FOR HISTORY PADDLE</strong></span><br />\nHelp <em>Nature Up North</em> find remnants of the logging history of the North Country\, right on the Grasse River! On this paddle\, you&#39\;ll leave the Little River Boat launch in search of buried treasure (stone piles) deep beneath the waves of the Grasse River.<br />\n<br />\nLong ago\, loggers would pile stones in the Grasse River to block it in the fall and log through the winter. In the spring\, they would remove the dams and let the spring floods carry logs downstream to mills along the shore. At low water\, the remnants of these dams are still visible beneath the waves.<br />\n<br />\n<a href="https://www.natureupnorth.org/form/community-paddle-registration-da" target="_blank">Register HERE</a> to join Nature Up North on the paddle and let them know if you&#39\;ll need canoes\, paddles\, or lifejackets!
LOCATION:Little River Boat Launch Located off Park Street (Rt 27)\, Canton
UID:e.2288.18450
SEQUENCE:3
DTSTAMP:20260419T220431Z
URL:https://business.visitstlc.com/events/details/nun-hunt-for-history-paddle-18450
END:VEVENT

END:VCALENDAR
