BEGIN:VCALENDAR
VERSION:2.0
PRODID:-//ChamberMaster//Event Calendar 2.0//EN
METHOD:PUBLISH
X-PUBLISHED-TTL:P3D
REFRESH-INTERVAL:P3D
CALSCALE:GREGORIAN
BEGIN:VEVENT
DTSTART:20241118T213000Z
DTEND:20241119T023000Z
X-MICROSOFT-CDO-ALLDAYEVENT:FALSE
SUMMARY:November Bingo
DESCRIPTION:BINGO\n\nThe Knights of Columbus of Canton will host Bingo on Monday evenings throughout November (4th\, 11th\, 18th\, and 25th). Gather with family\, bring your friends\, enjoy good company\, have a snack and maybe win a game\, or bonus ball game! Doors open at 4:30 pm. First call at 7pm. Admission $5 at the door.
X-ALT-DESC;FMTTYPE=text/html:<strong><span style="font-size:20px\;">BINGO</span></strong><br />\nThe Knights of Columbus of Canton will host Bingo on Monday evenings throughout November (4th\, 11th\, 18th\, and 25th). Gather with family\, bring your friends\, enjoy good company\, have a snack and maybe win a game\, or bonus ball game! Doors open at 4:30 pm. First call at 7pm. <span style="font-family:arial\;">Admission</span> $5 at the door.
LOCATION:30 Miner Street Canton\, NY
UID:e.2288.18893
SEQUENCE:3
DTSTAMP:20260422T022006Z
URL:https://business.visitstlc.com/events/details/november-bingo-11-18-2024-18893
END:VEVENT

END:VCALENDAR
