BEGIN:VCALENDAR
VERSION:2.0
PRODID:-//ChamberMaster//Event Calendar 2.0//EN
METHOD:PUBLISH
X-PUBLISHED-TTL:P3D
REFRESH-INTERVAL:P3D
CALSCALE:GREGORIAN
BEGIN:VEVENT
DTSTART:20240728T000000Z
DTEND:20240728T020000Z
X-MICROSOFT-CDO-ALLDAYEVENT:FALSE
SUMMARY:Nighttime Bat Paddle
DESCRIPTION:NIGHTTIME BAT PADDLE\n\nEver wanted to get a closer look at some of our local night time friends? You can on our bat paddle! Separate from Nature Up North's regularly scheduled bi-weekly paddles\, this paddle will take place at twilight and beyond to give us the best chance of seeing\, and hearing\, the bats that soar above our canoes. Why paddle? Bats prefer to hunt over open water\, like the little river\, because bugs tend to be easier to find! Be sure to bring a headlamp to help you see.\n\n\n\nRegister HERE!
X-ALT-DESC;FMTTYPE=text/html:<span style="font-size:20px\;"><strong>NIGHTTIME BAT PADDLE</strong></span><br />\nEver wanted to get a closer look at some of our local night time friends? You can on our bat paddle! Separate from Nature Up North&#39\;s regularly scheduled bi-weekly paddles\, this paddle will take place at twilight and beyond to give us the best chance of seeing\, and hearing\, the bats that soar above our canoes. Why paddle? Bats prefer to hunt over open water\, like the little river\, because bugs tend to be easier to find! Be sure to bring a headlamp to help you see.<br />\n<br />\n<a href="https://www.natureupnorth.org/form/bat-paddle-registration-july-27t" target="_blank">Register HERE</a>!
LOCATION:Little River Boat Launch Located off Park Street (Rt 27)\, Canton
UID:e.2288.18459
SEQUENCE:3
DTSTAMP:20260419T220211Z
URL:https://business.visitstlc.com/events/details/nighttime-bat-paddle-18459
END:VEVENT

END:VCALENDAR
