BEGIN:VCALENDAR
VERSION:2.0
PRODID:-//ChamberMaster//Event Calendar 2.0//EN
METHOD:PUBLISH
X-PUBLISHED-TTL:P3D
REFRESH-INTERVAL:P3D
CALSCALE:GREGORIAN
BEGIN:VEVENT
DTSTART:20240725T223000Z
DTEND:20240726T000000Z
X-MICROSOFT-CDO-ALLDAYEVENT:FALSE
SUMMARY:Navigating The Seaway and Your Career
DESCRIPTION:NAVIGATING THE SEAWAY AND YOUR CAREER\n\nJoin the St. Lawrence County Emerging Professionals and the Director of the Seaway Visitor Center for an educational discussion and networking event. Light refreshments will be provided.
X-ALT-DESC;FMTTYPE=text/html:<span style="font-size:20px\;"><strong>NAVIGATING THE SEAWAY AND YOUR CAREER</strong></span><br />\nJoin the St. Lawrence County Emerging Professionals and the Director of the Seaway Visitor Center for an educational discussion and networking event. Light refreshments will be provided.
LOCATION:Seaway Visitor Center at Eisenhower Lock 76 Barnhart Island Road Massena\, NY 13662
UID:e.2288.18000
SEQUENCE:3
DTSTAMP:20260419T220808Z
URL:https://business.visitstlc.com/events/details/navigating-the-seaway-and-your-career-18000
END:VEVENT

END:VCALENDAR
