BEGIN:VCALENDAR
VERSION:2.0
PRODID:-//ChamberMaster//Event Calendar 2.0//EN
METHOD:PUBLISH
X-PUBLISHED-TTL:P3D
REFRESH-INTERVAL:P3D
CALSCALE:GREGORIAN
BEGIN:VEVENT
DTSTART:20240921T140000Z
DTEND:20240922T200000Z
X-MICROSOFT-CDO-ALLDAYEVENT:FALSE
SUMMARY:Model Train\, Toy\, & Collectible Expo
DESCRIPTION:MODEL TRAIN\, TOY\, & COLLECTIBLE EXPO\n\n\n\nThe Norwood Model Railroad Club is sponsoring its 15th Annual Model Train\, Toy & Collectible Expo at the Massena Arena in Massena\, NY. See 9+ operating model train layouts of varied sizes and gauges\, shop with vendors (buying and selling)\, and appraising new and use model trains. Attend a clinic on model railroad scenery/Making Trees. Fun for all ages. \n\n\n\nFree miniature outdoor train rides for young and old (weather permitting).\n\n\n\nThe concession food stand will be available with refreshments benefiting the Massena Recreation Commission.
X-ALT-DESC;FMTTYPE=text/html:<span style="font-size:20px\;"><strong>MODEL TRAIN\, TOY\, &amp\; COLLECTIBLE EXPO</strong></span><br />\n<br />\nThe Norwood Model Railroad Club is sponsoring its 15th Annual Model Train\, Toy &amp\; Collectible Expo at the Massena Arena in Massena\, NY. See 9+ operating model train layouts of varied sizes and gauges\, shop with vendors (buying and selling)\, and appraising new and use model trains. Attend a clinic on model railroad scenery/Making Trees. Fun for all ages.&nbsp\;<br />\n<br />\nFree miniature outdoor train rides for young and old (weather permitting).<br />\n<br />\nThe concession food stand will be available with refreshments benefiting the Massena Recreation Commission.&nbsp\;<br />\n<br />\n&nbsp\;
LOCATION:Massena Arena 180 Harte Haven Plaza\, Massena\, NY
UID:e.2288.18555
SEQUENCE:3
DTSTAMP:20260422T021112Z
URL:https://business.visitstlc.com/events/details/model-train-toy-collectible-expo-09-21-2024-18555
END:VEVENT

END:VCALENDAR
