BEGIN:VCALENDAR
VERSION:2.0
PRODID:-//ChamberMaster//Event Calendar 2.0//EN
METHOD:PUBLISH
X-PUBLISHED-TTL:P3D
REFRESH-INTERVAL:P3D
CALSCALE:GREGORIAN
BEGIN:VEVENT
DTSTART:20240729T220000Z
DTEND:20240730T000000Z
X-MICROSOFT-CDO-ALLDAYEVENT:FALSE
SUMMARY:Massena Concert Series: The Tas Cru Band
DESCRIPTION:MASSENA CONCERT SERIES\n\n\n\nEnjoy a variety of musicians each week in Massena! All concerts begin nightly at 6:00pm in Springs Park. \n\n\n\nThe 2024 Concerts in the Park schedule is as follows:\n\nFri. June 14: Tracer James\n\nSat. June 22: String Soulstice\n\nFri. July 12: Contraband\n\nSat. July 13: Playback\n\nWed. July 24: New Horizons Concert & Swing Bands\n\nFri. July 26: Lacey Stoddard-Peets\n\nMon. July 29: The Tas Cru Band\n\nFri. August 2: Station 45\n\nSat. August 10: Foolish Pride\n\nSat. August 17: Atom Ghost 10 Year Anniversary\n\nMon. August 19: SLAP Presents: Poetry in the Park\, Open Mic\n\n\n\nThis project is made possible with funds from the Statewide Community Regrants Program\, a regrant program of the New York State Council on the Arts with the support of the Office of the Governor and the New York State Legislature and administered by the St. Lawrence County Arts Council.
X-ALT-DESC;FMTTYPE=text/html:<span style="font-size:20px\;"><strong>MASSENA CONCERT SERIES</strong></span><br />\n<br />\nEnjoy a variety of musicians each week in Massena! All concerts begin nightly at 6:00pm in Springs Park.&nbsp\;<br />\n<br />\n<strong><u>The 2024 Concerts in the Park schedule is as follows</u>:</strong><br />\n<strong>Fri. June 14:</strong>&nbsp\;Tracer James<br />\n<strong>Sat. June 22:&nbsp\;</strong>String Soulstice<br />\n<strong>Fri. July 12:</strong>&nbsp\;Contraband<br />\n<strong>Sat. July 13:</strong>&nbsp\;Playback<br />\n<strong>Wed. July 24:</strong>&nbsp\;New Horizons Concert &amp\; Swing Bands<br />\n<strong>Fri. July 26:</strong>&nbsp\;Lacey Stoddard-Peets<br />\n<strong>Mon. July 29:</strong>&nbsp\;The Tas Cru Band<br />\n<strong>Fri. August 2:</strong>&nbsp\;Station 45<br />\n<strong>Sat. August 10:</strong>&nbsp\;Foolish Pride<br />\n<strong>Sat. August 17:</strong>&nbsp\;Atom Ghost 10 Year Anniversary<br />\n<strong>Mon. August 19:</strong>&nbsp\;SLAP Presents: Poetry in the Park\, Open Mic<br />\n<br />\n<em>This project is made possible with funds from the Statewide Community Regrants Program\, a regrant program of the New York State Council on the Arts with the support of the Office of the Governor and the New York State Legislature and administered by the St. Lawrence County Arts Council.</em>
LOCATION:Springs Park 21 West Hatfield Street Massena\, NY
UID:e.2288.18384
SEQUENCE:3
DTSTAMP:20260419T203207Z
URL:https://business.visitstlc.com/events/details/massena-concert-series-the-tas-cru-band-18384
END:VEVENT

END:VCALENDAR
