BEGIN:VCALENDAR
VERSION:2.0
PRODID:-//ChamberMaster//Event Calendar 2.0//EN
METHOD:PUBLISH
X-PUBLISHED-TTL:P3D
REFRESH-INTERVAL:P3D
CALSCALE:GREGORIAN
BEGIN:VEVENT
DTSTART:20240701T140000Z
DTEND:20240701T200000Z
X-MICROSOFT-CDO-ALLDAYEVENT:FALSE
SUMMARY:Mare's Wares Gallery Pop-up Art Market
DESCRIPTION:MARE'S WARES GALLERY POP-UP ART MARKET\n\n\n\nA market for local small businesses\, creatives\, and makers! A variety of artisans\, food\, drinks\, boutique crafts and more on site.
X-ALT-DESC;FMTTYPE=text/html:<span style="font-size:20px\;"><strong>MARE&#39\;S WARES GALLERY POP-UP ART MARKET</strong></span><br />\n<br />\nA market for local small businesses\, creatives\, and makers! A variety of artisans\, food\, drinks\, boutique crafts and more on site.
LOCATION:Mare's Wares Pottery 3938 State Highway 37 Morristown\, NY
UID:e.2288.18434
SEQUENCE:3
DTSTAMP:20260419T215645Z
URL:https://business.visitstlc.com/events/details/mare-s-wares-gallery-pop-up-art-market-18434
END:VEVENT

END:VCALENDAR
