BEGIN:VCALENDAR
VERSION:2.0
PRODID:-//ChamberMaster//Event Calendar 2.0//EN
METHOD:PUBLISH
X-PUBLISHED-TTL:P3D
REFRESH-INTERVAL:P3D
CALSCALE:GREGORIAN
BEGIN:VEVENT
DTSTART:20240710T220000Z
DTEND:20240711T000000Z
X-MICROSOFT-CDO-ALLDAYEVENT:FALSE
SUMMARY:Madrid Dam Music Series
DESCRIPTION:2024 MADRID DAM MUSIC SERIES\n\n\n\nThe Madrid Dam Music Series (MDMS) is a unique celebration of Madrid\, NY. They seek out performers who are based within 20-30 miles of Madrid\, and often feature especially talented students from Madrid Waddington Central School and SUNY Potsdam's Crane School of Music. At each of the summer evenings they honor a local community group such as the Fire Department or Zumba dancers\, and/or a local business or individual that has sponsored the event.\n\n\n\nTheir audience is comprised of children and adults of all ages and the events have become known throughout the area for their fun and festive atmosphere. Events are free to all\, and light refreshments are sold. Donations are gratefully accepted\, and they are their primary source of support.\n\n\n\nMusic performances take place on evenings from 6:00pm - 8:00pm. All MDMS events are family friendly without smoking\, alcohol\, or strobe lighting. All events will be held in the Madrid Municipal Park unless otherwise noted. \n\n\n\nThe 2024 MDMS is as Follows:\n\n	June 19: Steelin' Country\n	June 26: 11B\n	July 3: Foolish Pride\n	July 10: North Wind\n	July 17: Potsdam Community Band* special event held at SLPEM Equine Building (1755 NY-345\, Madrid)\n	July 24: Dad Bods\n	July 31: Madstock\n\nThis project is made possible with funds from the Statewide Community Regrants Program\, a regrant program of the New York State Council on the Art\, with the support of the Office of the Governor and the New York State Legislature\, and administered by the St. Lawrence County Arts Council.
X-ALT-DESC;FMTTYPE=text/html:<span background-color:="" font-size:="" pt=""><span style="font-size:20px\;"><strong>2024 MADRID DAM MUSIC SERIES</strong></span><br>\n<br>\nThe Madrid Dam Music Series&nbsp\;(MDMS) is a unique celebration of Madrid\, NY. They seek out performers who are based within 20-30 miles of Madrid\, and often feature especially talented students from Madrid Waddington Central School and SUNY Potsdam's Crane School of Music. At each of the summer evenings they honor a local community group such as the Fire Department or Zumba dancers\, and/or a local business or individual that has sponsored the event.<br>\n<br>\nTheir audience is comprised of children and adults of all ages and the events have become known throughout the area for their fun and festive atmosphere. Events are free to all\, and light refreshments are sold. Donations are gratefully accepted\, and they are their primary source of support.<br>\n<br>\nMusic performances take place on evenings from 6:00pm - 8:00pm. All MDMS events are family friendly without smoking\, alcohol\, or strobe lighting. All events will be held in the Madrid Municipal Park unless otherwise noted.&nbsp\;<br>\n<br>\n<u><strong>The 2024 MDMS is as Follows:</strong></u></span>\n<ul>\n	<li><span background-color:="" font-size:="" pt=""><span style="font-size:14px\;"><strong>June 19:</strong> Steelin' Country</span></span></li>\n	<li><span background-color:="" font-size:="" pt=""><span style="font-size:14px\;"><strong>June 26: </strong>11B</span></span></li>\n	<li><span background-color:="" font-size:="" pt=""><span style="font-size:14px\;"><strong>July 3:</strong> Foolish Pride</span></span></li>\n	<li><span background-color:="" font-size:="" pt=""><span style="font-size:14px\;"><strong>July 10:</strong>&nbsp\;North Wind</span></span></li>\n	<li><span background-color:="" font-size:="" pt=""><span style="font-size:14px\;"><strong>July 17: </strong>Potsdam Community Band*&nbsp\;special event held at <a href="https://slpowermuseum.com/?fbclid=IwZXh0bgNhZW0CMTAAAR3fFA5Rtlx1bhzdEd6UsIPGzA3cvx4guSsaNUU-goHFoAgKYErLtRGHVGM_aem_YKEtzEPiQrxLdhXshhuwwg" target="_blank">SLPEM Equine Building</a> (1755 NY-345\, Madrid)</span></span></li>\n	<li><span background-color:="" font-size:="" pt=""><span style="font-size:14px\;"><strong>July 24:</strong> Dad Bods</span></span></li>\n	<li><span background-color:="" font-size:="" pt=""><span style="font-size:14px\;"><strong>July 31:</strong> Madstock<span background-color:="" font-size:="" pt=""><tbc><span style="font-size:14px\;"><span background-color:="" font-size:="" pt=""><tbc></tbc></span></span></tbc></span></span></span></li>\n</ul>\n<span background-color:="" font-size:="" pt=""><tbc><em>This project is made possible with funds from the Statewide Community Regrants Program\, a regrant program of the New York State Council on the Art\, with the support of the Office of the Governor and the New York State Legislature\, and administered by the St. Lawrence County Arts Council.</em></tbc></span>
LOCATION:Madrid Municipal Park 1835 NY-345 Madrid\, NY
UID:e.2288.18398
SEQUENCE:3
DTSTAMP:20260419T220850Z
URL:https://business.visitstlc.com/events/details/madrid-dam-music-series-07-10-2024-18398
END:VEVENT

END:VCALENDAR
