BEGIN:VCALENDAR
VERSION:2.0
PRODID:-//ChamberMaster//Event Calendar 2.0//EN
METHOD:PUBLISH
X-PUBLISHED-TTL:P3D
REFRESH-INTERVAL:P3D
CALSCALE:GREGORIAN
BEGIN:VEVENT
DTSTART:20240721T160000Z
DTEND:20240721T200000Z
X-MICROSOFT-CDO-ALLDAYEVENT:FALSE
SUMMARY:Louisville Hometown Spirit Parade & Kids Day
DESCRIPTION:LOUISVILLE HOMETOWN SPIRIT PARADE\n\n\n\nHometown Spirit Parade starts 12:00pm. Parade will march down CR 39 up to CR 36\, ending at the Community Center (Louisville Arena) 44 Arena Drive.\n\n\n\nKids Day to follow parade including: bounce house/slide\, Herpetology\, face painting\, games & prizes\, animal balloons\, and more! Hot dogs and hamburgers will be available.
X-ALT-DESC;FMTTYPE=text/html:<p><span style="font-size:20px\;"><strong>LOUISVILLE HOMETOWN SPIRIT PARADE</strong></span><br />\n<br />\nHometown Spirit Parade starts 12:00pm. Parade will march down CR 39 up to CR 36\, ending at the Community Center (Louisville Arena) 44 Arena Drive.<br />\n<br />\nKids Day to follow parade including: bounce house/slide\, Herpetology\, face painting\, games &amp\; prizes\, animal balloons\, and more! Hot dogs and hamburgers will be available.</p>\n
LOCATION:Louisville Arena 44 Arena Drive Chase Mills\, NY
UID:e.2288.17909
SEQUENCE:3
DTSTAMP:20260419T221100Z
URL:https://business.visitstlc.com/events/details/louisville-hometown-spirit-parade-kids-day-17909
END:VEVENT

END:VCALENDAR
