BEGIN:VCALENDAR
VERSION:2.0
PRODID:-//ChamberMaster//Event Calendar 2.0//EN
METHOD:PUBLISH
X-PUBLISHED-TTL:P3D
REFRESH-INTERVAL:P3D
CALSCALE:GREGORIAN
BEGIN:VEVENT
DTSTART:20240713T140000Z
DTEND:20240713T180000Z
X-MICROSOFT-CDO-ALLDAYEVENT:FALSE
SUMMARY:Intro to Primitive Rug Hooking
DESCRIPTION:INTRO TO PRIMITIVE RUG HOOKING\n\nParticipants will use wool strips to produce a 10" x 10" mat of a "primitive" sheep to use as a wall hanging or pillow cover. All materials provided. Go home with the tools and know-how to produce more hooked works. Maximum 10 students. Bring lunch and a pair of scissors.\n\n\n\nMust pre-register at www.lakestlawrencearts.com\, email: lakesaintlawrencearts@gmail.com\, or call 315-705-1241.
X-ALT-DESC;FMTTYPE=text/html:<span style="font-size:20px\;"><strong>INTRO TO PRIMITIVE RUG HOOKING</strong></span><br />\nParticipants will use wool strips to produce a 10&rdquo\; x 10&rdquo\; mat of a &ldquo\;primitive&rdquo\; sheep to use as a wall hanging or pillow cover. All materials provided. Go home with the tools and know-how to produce more hooked works. Maximum 10 students. Bring lunch and a pair of scissors.<br />\n<br />\nMust pre-register at www.lakestlawrencearts.com\, email: lakesaintlawrencearts@gmail.com\, or call 315-705-1241.
LOCATION:The Gallery at Lake Saint Lawrence Arts 14 Main Street Waddington\, NY
UID:e.2288.18004
SEQUENCE:3
DTSTAMP:20260419T220303Z
URL:https://business.visitstlc.com/events/details/intro-to-primitive-rug-hooking-18004
END:VEVENT

END:VCALENDAR
