BEGIN:VCALENDAR
VERSION:2.0
PRODID:-//ChamberMaster//Event Calendar 2.0//EN
METHOD:PUBLISH
X-PUBLISHED-TTL:P3D
REFRESH-INTERVAL:P3D
CALSCALE:GREGORIAN
BEGIN:VEVENT
DTSTART:20240719T220000Z
DTEND:20240720T020000Z
X-MICROSOFT-CDO-ALLDAYEVENT:FALSE
SUMMARY:Ice Cream Social & Fireworks
DESCRIPTION:ICE CREAM SOCIAL & FIREWORKS\n\nThe town of Louisville will be hosting an community Ice Cream Social accompanied with live music by Norwood Brass Fireman. Fireworks to follow at dusk.
X-ALT-DESC;FMTTYPE=text/html:<span style="font-size:20px\;"><strong>ICE CREAM SOCIAL &amp\; FIREWORKS</strong></span><br />\nThe town of Louisville will be hosting an community Ice Cream Social accompanied with live music by <a href="https://www.facebook.com/NorwoodBrassFiremen/" target="_blank">Norwood Brass Fireman</a>. Fireworks to follow at dusk.
LOCATION:Louisville Old Fire Station 735 CR 39 Louisville\, NY
UID:e.2288.17907
SEQUENCE:3
DTSTAMP:20260419T202707Z
URL:https://business.visitstlc.com/events/details/ice-cream-social-fireworks-17907
END:VEVENT

END:VCALENDAR
