BEGIN:VCALENDAR
VERSION:2.0
PRODID:-//ChamberMaster//Event Calendar 2.0//EN
METHOD:PUBLISH
X-PUBLISHED-TTL:P3D
REFRESH-INTERVAL:P3D
CALSCALE:GREGORIAN
BEGIN:VEVENT
DTSTART;VALUE=DATE:20240712
DTEND;VALUE=DATE:20240715
TRANSP:TRANSPARENT
X-MICROSOFT-CDO-ALLDAYEVENT:TRUE
SUMMARY:Gouverneur Community Garage Sale Weekend
DESCRIPTION:GOUVERNEUR COMMUNITY GARAGE SALE WEEKEND\n\n\n\nThe Gouverneur Chamber of Commerce is hosting a community garage sale weekend on July 12 - 14\, 2024.\n\n\n\nCommunity members looking to have their address listed within promotions\, are directed to contact the Gouverneur Tribune Press or the Gouverneur Chamber of Commerce.
X-ALT-DESC;FMTTYPE=text/html:<span style="font-size:20px\;"><strong>GOUVERNEUR COMMUNITY GARAGE SALE WEEKEND</strong></span><br />\n<br />\nThe Gouverneur Chamber of Commerce is hosting a community garage sale weekend on July 12 - 14\, 2024.<br />\n<br />\n<em>Community members looking to have their address listed within promotions\, are directed to contact the Gouverneur Tribune Press or the Gouverneur Chamber of Commerce.&nbsp\;</em>
LOCATION:Gouverneur\, NY
UID:e.2288.17966
SEQUENCE:3
DTSTAMP:20260419T220715Z
URL:https://business.visitstlc.com/events/details/gouverneur-community-garage-sale-weekend-17966
END:VEVENT

END:VCALENDAR
