BEGIN:VCALENDAR
VERSION:2.0
PRODID:-//ChamberMaster//Event Calendar 2.0//EN
METHOD:PUBLISH
X-PUBLISHED-TTL:P3D
REFRESH-INTERVAL:P3D
CALSCALE:GREGORIAN
BEGIN:VEVENT
DTSTART:20240713T170000Z
DTEND:20240713T220000Z
X-MICROSOFT-CDO-ALLDAYEVENT:FALSE
SUMMARY:Float the Oswegatchie
DESCRIPTION:FLOAT THE OSWEGATIE\n\nNature Up North is branching out their canoe programming to the Oswegatchie River! They will host a float trip from the Heuvelton Boat Launch to Eel Weir State Park on Saturday\, July 13th. The float will start at 1pm in Heuvelton and will finish when the river decides to drop off! (or at 6pm with some paddle assistance.)\n\n\n\nA float is a relaxing way to enjoy the water. The float will be put in at an upstream location (Heuvelton) and take out at a downstream location (Ell Weir State Park). Nature Up North will have a van available to transport people back to Heuvelton to pick up their vehicles\, vice versa.\n\n\n\nRegister HERE\n\nNature Up North has a limit of 8 canoes available for people to use. Bring your own\, or register early to secure a canoe!
X-ALT-DESC;FMTTYPE=text/html:<strong><span style="font-size:20px\;">FLOAT THE OSWEGATIE</span></strong><br />\nNature Up North is branching out their canoe programming to the Oswegatchie River! They will host a float trip from the Heuvelton Boat Launch to Eel Weir State Park on Saturday\, July 13th. The float will start at 1pm in Heuvelton and will finish when the river decides to drop off! (or at 6pm with some paddle assistance.)<br />\n<br />\nA float is a relaxing way to enjoy the water. The float will be put in at an upstream location (Heuvelton) and take out at a downstream location (Ell Weir State Park). Nature Up North will have a van available to transport people back to Heuvelton to pick up their vehicles\, vice versa.<br />\n<br />\n<a href="https://www.natureupnorth.org/form/community-paddle-registration-os" target="_blank"><span style="font-size:18px\;">Register HERE</span></a><br />\nNature Up North has a limit of 8 canoes available for people to use. Bring your own\, or register early to secure a canoe!&nbsp\;
LOCATION:Heuvelton Boat Launch Lisbon Street\, Heuvelton\, NY
UID:e.2288.18447
SEQUENCE:3
DTSTAMP:20260419T220146Z
URL:https://business.visitstlc.com/events/details/float-the-oswegatchie-18447
END:VEVENT

END:VCALENDAR
