BEGIN:VCALENDAR
VERSION:2.0
PRODID:-//ChamberMaster//Event Calendar 2.0//EN
METHOD:PUBLISH
X-PUBLISHED-TTL:P3D
REFRESH-INTERVAL:P3D
CALSCALE:GREGORIAN
BEGIN:VEVENT
DTSTART:20240713T231500Z
DTEND:20240714T001500Z
X-MICROSOFT-CDO-ALLDAYEVENT:FALSE
SUMMARY:Figure Skating Exhibition for State Games of America Skaters
DESCRIPTION:FIGURE SKATING EXHIBITION\n\nFOR STATE GAMES OF AMERICA SKATERS\n\nJoin local non-profit State Games Skater Fund for an evening of figure skating as they celebrate 12 talented local skaters who qualified to compete in the State Games of America in San Diego. The girls will perform their programs in their final fundraiser and send off before they represent the North Country in this international competition.
X-ALT-DESC;FMTTYPE=text/html:<strong><span style="font-size:20px\;">FIGURE SKATING EXHIBITION</span></strong><br />\n<span style="font-size:20px\;">FOR STATE GAMES OF AMERICA SKATERS</span><br />\nJoin local non-profit <em>State Games Skater Fund</em> for an evening of figure skating as they celebrate 12 talented local skaters who qualified to compete in the State Games of America in San Diego. The girls will perform their programs in their final fundraiser and send off before they represent the North Country in this international competition.
LOCATION:Cheel Arena at Clarkson University 8 Clarkson Avenue Potsdam\, NY
UID:e.2288.18463
SEQUENCE:3
DTSTAMP:20260419T203227Z
URL:https://business.visitstlc.com/events/details/figure-skating-exhibition-for-state-games-of-america-skaters-18463
END:VEVENT

END:VCALENDAR
