BEGIN:VCALENDAR
VERSION:2.0
PRODID:-//ChamberMaster//Event Calendar 2.0//EN
METHOD:PUBLISH
X-PUBLISHED-TTL:P3D
REFRESH-INTERVAL:P3D
CALSCALE:GREGORIAN
BEGIN:VEVENT
DTSTART:20240911T210000Z
DTEND:20240911T234500Z
X-MICROSOFT-CDO-ALLDAYEVENT:FALSE
SUMMARY:Fall Gardening
DESCRIPTION:Fall gardening!\n\n\n	Wednesday\, September 11\, 2024\, 5:00 PM - 7:45 PM\n\n\nJoin Master Gardeners for a lightning round of three important fall gardening topics. \n\n5:00-5:45 Planting Fall Bulbs with Anneke Larrance\, MGV\n\nRemember how you admired that sea of nodding daffodils last spring? How you sighed over a bright expanse of sturdy tulips? Or maybe you appreciated a small planting of grape hyacinths mixed with crocus. Come and learn more about fall bulb planting for spring beauty. Learn how to plan and plant your own palate of spring color that will greet you and the pollinators when the North Country winter has broken. Each attendee will take home a set of bulbs!\n\n6:00-6:45 Soil Sampling and Testing with Erica LaFountain\, Community Horticulture Educator\n\nFall is the best time to test your soil. Find out how to get a representative soil sample and how to submit it for testing. Learn how to interpret your results and where to go for help.\n\n7:00-7:45 with Juli Pomainville\, MGV\n\nJuli has a knack for putting together resources. In this session\, she will share her fall garden checklist and make it available to you all to help you enter winter with your gardening supplies ready for spring.\n\nFee\n\nFREE\, remember to register!\n\nRegister\n\nhttps://pub.cce.cornell.edu/event_registration/main/events_landing.cfm?event=fall_gardening_topics_240
X-ALT-DESC;FMTTYPE=text/html:<h1 style="box-sizing: border-box\; font-size: 19px\; margin: 0px\; font-family: Tahoma\, Geneva\, sans-serif\; line-height: 1.6em\; color: rgb(75\, 123\, 43)\;">Fall gardening!</h1>\n\n<ul class="dates" style="box-sizing: border-box\; margin: 0px 0px 15px\; padding-right: 0px\; padding-left: 0px\; font-family: Tahoma\, Geneva\, sans-serif\; font-size: 12px\;">\n	<li style="box-sizing: border-box\; list-style: none\; font-weight: bold\;">Wednesday\, September 11\, 2024\, 5:00 PM - 7:45 PM</li>\n</ul>\n\n<p style="box-sizing: border-box\; margin: 0px 0px 8.5px\; font-family: Tahoma\, Geneva\, sans-serif\; line-height: 1.5\; color: rgb(68\, 68\, 68)\; font-size: 12px\;">Join Master Gardeners for a lightning round of three important fall gardening topics.&nbsp\;</p>\n\n<p style="box-sizing: border-box\; margin: 0px 0px 8.5px\; font-family: Tahoma\, Geneva\, sans-serif\; line-height: 1.5\; color: rgb(68\, 68\, 68)\; font-size: 12px\;">5:00-5:45 Planting Fall Bulbs with Anneke Larrance\, MGV</p>\n\n<p style="box-sizing: border-box\; margin: 0px 0px 8.5px\; font-family: Tahoma\, Geneva\, sans-serif\; line-height: 1.5\; color: rgb(68\, 68\, 68)\; font-size: 12px\;">Remember how you admired that sea of nodding daffodils last spring? How you sighed over a bright expanse of sturdy tulips? Or maybe you appreciated a small planting of grape hyacinths mixed with crocus. Come and learn more about fall bulb planting for spring beauty. Learn how to plan and plant your own palate of spring color that will greet you and the pollinators when the North Country winter has broken. Each attendee will take home a set of bulbs!</p>\n\n<p style="box-sizing: border-box\; margin: 0px 0px 8.5px\; font-family: Tahoma\, Geneva\, sans-serif\; line-height: 1.5\; color: rgb(68\, 68\, 68)\; font-size: 12px\;">6:00-6:45 Soil Sampling and Testing with Erica LaFountain\, Community Horticulture Educator</p>\n\n<p style="box-sizing: border-box\; margin: 0px 0px 8.5px\; font-family: Tahoma\, Geneva\, sans-serif\; line-height: 1.5\; color: rgb(68\, 68\, 68)\; font-size: 12px\;">Fall is the best time to test your soil. Find out how to get a representative soil sample and how to submit it for testing. Learn how to interpret your results and where to go for help.</p>\n\n<p style="box-sizing: border-box\; margin: 0px 0px 8.5px\; font-family: Tahoma\, Geneva\, sans-serif\; line-height: 1.5\; color: rgb(68\, 68\, 68)\; font-size: 12px\;">7:00-7:45 with Juli Pomainville\, MGV</p>\n\n<p style="box-sizing: border-box\; margin: 0px 0px 8.5px\; font-family: Tahoma\, Geneva\, sans-serif\; line-height: 1.5\; color: rgb(68\, 68\, 68)\; font-size: 12px\;">Juli has a knack for putting together resources. In this session\, she will share her fall garden checklist and make it available to you all to help you enter winter with your gardening supplies ready for spring.</p>\n\n<h3 style="box-sizing: border-box\; font-family: Tahoma\, Geneva\, sans-serif\; line-height: 1.6em\; color: rgb(75\, 123\, 43)\; margin: 0px\; font-size: 15px\;">Fee</h3>\n\n<p style="box-sizing: border-box\; margin: 0px 0px 8.5px\; font-family: Tahoma\, Geneva\, sans-serif\; line-height: 1.5\; color: rgb(68\, 68\, 68)\; font-size: 12px\;">FREE\, remember to register!</p>\n\n<h3 style="box-sizing: border-box\; font-family: Tahoma\, Geneva\, sans-serif\; line-height: 1.6em\; color: rgb(75\, 123\, 43)\; margin: 0px\; font-size: 15px\;">Register</h3>\n\n<p style="box-sizing: border-box\; margin: 0px 0px 8.5px\; font-family: Tahoma\, Geneva\, sans-serif\; line-height: 1.5\; color: rgb(68\, 68\, 68)\; font-size: 12px\;"><a href="https://pub.cce.cornell.edu/event_registration/main/events_landing.cfm?event=fall_gardening_topics_240" style="box-sizing: border-box\; background: transparent\; color: rgb(179\, 27\, 27)\;" target="_blank">https://pub.cce.cornell.edu/event_registration/main/events_landing.cfm?event=fall_gardening_topics_240</a></p>\n
LOCATION:Cornell Cooperative Extension of St. Lawrence County 2043B State Highway 68 Canton\, NY 13617
UID:e.2288.18591
SEQUENCE:3
DTSTAMP:20260422T015909Z
URL:https://business.visitstlc.com/events/details/fall-gardening-18591
END:VEVENT

END:VCALENDAR
