BEGIN:VCALENDAR
VERSION:2.0
PRODID:-//ChamberMaster//Event Calendar 2.0//EN
METHOD:PUBLISH
X-PUBLISHED-TTL:P3D
REFRESH-INTERVAL:P3D
CALSCALE:GREGORIAN
BEGIN:VEVENT
DTSTART:20240716T183000Z
DTEND:20240716T193000Z
X-MICROSOFT-CDO-ALLDAYEVENT:FALSE
SUMMARY:Big Bubble Bonanza: Ogdensburg
DESCRIPTION:BIG BUBBLE BONANZA\n\n\n\nWorld famous bubble expert Jeff Boyer Jeff Boyer\, performing his Big Bubble Bonanza show at the Ogdensburg Public Library on Tuesday\, July 16\, 2024 at 2:30pm. \n\n\n\nMixing comedy\, music\, and interactive bubble-magic\, Jeff engages and delights audiences of all ages. It's a sensory-friendly bubble extravaganza for the whole family!\n\n\n\nBubble rainbows with people inside. Audience members making volcano bubbles! Gigantic bubbles that blow their own bubbles? See the newest\, funniest\, zany spectacular from world-famous\, Guinness Book of World Records-holding\, master bubble wrangler Jeff Boyer\, as he takes bubbles to the max with big bubble flair.\n\n\n\nTake a sneak peak of what to expect at the show HERE.
X-ALT-DESC;FMTTYPE=text/html:<span style="font-size:20px\;"><strong>BIG BUBBLE BONANZA</strong></span><br />\n<br />\nWorld famous bubble expert Jeff Boyer Jeff Boyer\, performing his&nbsp\;Big Bubble Bonanza&nbsp\;show at the Ogdensburg Public Library on Tuesday\, July 16\, 2024 at 2:30pm.&nbsp\;<br />\n<br />\nMixing comedy\, music\, and interactive bubble-magic\, Jeff engages and delights audiences of all ages. It&rsquo\;s a sensory-friendly bubble extravaganza for the whole family!<br />\n<br />\nBubble rainbows with people inside. Audience members making volcano bubbles! Gigantic bubbles that blow their own bubbles? See the newest\, funniest\, zany spectacular from world-famous\,&nbsp\;Guinness Book of World Records-holding\, master bubble wrangler Jeff Boyer\, as he takes bubbles to the max with big bubble flair.<br />\n<br />\nTake a sneak peak of what to expect at the show&nbsp\;<a href="https://jeffboyer.com/?fbclid=IwAR1STU6oqKb4kf7C2hiuebVz8H7JJwQJ69tDTxLgBNV1o11To1cK_Nt65zA">HERE</a>.
LOCATION:Ogdensburg Public Library 312 Washington St\, Ogdensburg\, NY
UID:e.2288.17984
SEQUENCE:3
DTSTAMP:20260419T220536Z
URL:https://business.visitstlc.com/events/details/big-bubble-bonanza-ogdensburg-17984
END:VEVENT

END:VCALENDAR
