BEGIN:VCALENDAR
VERSION:2.0
PRODID:-//ChamberMaster//Event Calendar 2.0//EN
METHOD:PUBLISH
X-PUBLISHED-TTL:P3D
REFRESH-INTERVAL:P3D
CALSCALE:GREGORIAN
BEGIN:VEVENT
DTSTART:20241130T223000Z
DTEND:20241201T030000Z
X-MICROSOFT-CDO-ALLDAYEVENT:FALSE
SUMMARY:Believe NNY INC Dinner & Comedy Show
DESCRIPTION:Believe NNY INC Dinner & Comedy Show\n\nCome on out and support a great local restaurant\, The Ole Dekalb Hotel and Believe NNY Inc. There will be only 100 tickets available for the dinner/music and comedy night. Dinners options include prime rib or chicken. Tickets are also available to attend the comedy show only.
X-ALT-DESC;FMTTYPE=text/html:<span style="font-size:18px\;"><strong>Believe NNY INC Dinner &amp\; Comedy Show</strong></span><br />\nCome on out and support a great local restaurant\, The Ole Dekalb Hotel and Believe NNY Inc. There will be only 100 tickets available for the dinner/music and comedy night. Dinners options include prime rib or chicken. Tickets are also available to attend the comedy show only.
LOCATION:Olde Dekalb Hotel Route 4348 US HWY 11 Dekalb Junction\, NY
UID:e.2288.18633
SEQUENCE:3
DTSTAMP:20260422T022015Z
URL:https://business.visitstlc.com/events/details/believe-nny-inc-dinner-comedy-show-18633
END:VEVENT

END:VCALENDAR
