BEGIN:VCALENDAR
VERSION:2.0
PRODID:-//ChamberMaster//Event Calendar 2.0//EN
METHOD:PUBLISH
X-PUBLISHED-TTL:P3D
REFRESH-INTERVAL:P3D
CALSCALE:GREGORIAN
BEGIN:VEVENT
DTSTART:20210525T160000Z
DTEND:20210525T160000Z
X-MICROSOFT-CDO-ALLDAYEVENT:FALSE
SUMMARY:Beauty & Strength: The Life and Career of American Sculptor Sally James Farnham (Virtual)
DESCRIPTION:Ogdensburg's Other Great Sculptor: Farnham and Remington   Learn about the connections between these two great North Country artists\, who were friends and colleagues. The Frederic Remington Art Museum will offer a nine-part webinar series in conjunction with its new\, permanent exhibition\, "Beauty & Strength: The Life and Work of American Sculptor Sally James Farnham." The webinar series explores Farnham's life\, artwork\, and artistic career. The nine sessions will take place on the last Tuesday of each month at noon.
X-ALT-DESC;FMTTYPE=text/html:Ogdensburg&rsquo\;s Other Great Sculptor: Farnham and Remington &mdash\; Learn about the connections between these two great North Country artists\, who were friends and colleagues. The Frederic Remington Art Museum will offer a nine-part webinar series in conjunction with its new\, permanent exhibition\, &ldquo\;Beauty &amp\; Strength: The Life and Work of American Sculptor Sally James Farnham.&rdquo\; The webinar series explores Farnham&rsquo\;s life\, artwork\, and artistic career. The nine sessions will take place on the last Tuesday of each month at noon.
LOCATION:
UID:e.2288.10334
SEQUENCE:3
DTSTAMP:20260423T101048Z
URL:https://business.visitstlc.com/events/details/beauty-strength-the-life-and-career-of-american-sculptor-sally-james-farnham-virtual-05-25-2021-10334
END:VEVENT

END:VCALENDAR
