BEGIN:VCALENDAR
VERSION:2.0
PRODID:-//ChamberMaster//Event Calendar 2.0//EN
METHOD:PUBLISH
X-PUBLISHED-TTL:P3D
REFRESH-INTERVAL:P3D
CALSCALE:GREGORIAN
BEGIN:VEVENT
DTSTART;VALUE=DATE:20241019
DTEND;VALUE=DATE:20241020
TRANSP:TRANSPARENT
X-MICROSOFT-CDO-ALLDAYEVENT:TRUE
SUMMARY:BBJ Bootcamp 5K Run/Walk
DESCRIPTION:BBJ BOOTCAMP 5K RUN/WALK\n\n\n\nJohnnie Flynn the owner of Body By Johnnie Bootcamp & Fitness Center is hosting a 5k Run/Walk on Saturday October 19\, 2024 starting at 9:00 am from the Dobisky Center\, Ogdensburg\, NY. The path will be start at the Dobisky Center to the walking bridge then to Maple City trail and back. Proceeds from the event will be donated to the Ogdensburg Boys & Girls Club\, along with the Ogdensburg Elite Travel Basketball Program.\n\n\n\nBottled water will be on hand\, donated by Save-A-Lot and Pepsi. Koozies in all sizes to all participants\, donated by QT Laser.\n\n\n\nThe 5K is in conjunction with Ogdensburg Fall Festival. Costumes are encouraged\, this is a fun walk/run for everyone to enjoy.
X-ALT-DESC;FMTTYPE=text/html:<span style="font-size:20px\;"><strong>BBJ BOOTCAMP 5K RUN/WALK</strong></span><br />\n<br />\nJohnnie Flynn the owner of Body By Johnnie Bootcamp &amp\; Fitness Center is hosting a 5k Run/Walk on Saturday October 19\, 2024 starting at 9:00 am from the Dobisky Center\, Ogdensburg\, NY. The path will be start at the Dobisky Center to the walking bridge then to Maple City trail and back. Proceeds from the event will be donated to the Ogdensburg Boys &amp\; Girls Club\, along with the Ogdensburg Elite Travel Basketball Program.<br />\n<br />\nBottled water will be on hand\, donated by Save-A-Lot and Pepsi. Koozies in all sizes to all participants\, donated by QT Laser.<br />\n<br />\nThe 5K is in conjunction with Ogdensburg Fall Festival. Costumes are encouraged\, this is a fun walk/run for everyone to enjoy.
LOCATION:Dobisky Center 100 Riverside Ave. Ogdensburg\, NY 13669
UID:e.2288.18823
SEQUENCE:3
DTSTAMP:20260422T002337Z
URL:https://business.visitstlc.com/events/details/bbj-bootcamp-5k-run-walk-18823
END:VEVENT

END:VCALENDAR
