BEGIN:VCALENDAR
VERSION:2.0
PRODID:-//ChamberMaster//Event Calendar 2.0//EN
METHOD:PUBLISH
X-PUBLISHED-TTL:P3D
REFRESH-INTERVAL:P3D
CALSCALE:GREGORIAN
BEGIN:VEVENT
DTSTART:20250405T130000Z
DTEND:20250405T160000Z
X-MICROSOFT-CDO-ALLDAYEVENT:FALSE
SUMMARY:Autism Acceptance Walk
DESCRIPTION:Autism Acceptance Walk\n\nHosted annually by The Arc Jefferson - St. Lawrence Foundation\, this is a non-competitive walk to promote Autism Acceptance and raise funds to support local programs for people on the Autism Spectrum. Pre-registration is not required.\n\n\n\nTo make your donation to support local programs for people on the Autism Spectrum\, visit www.thearcjslc.org. Walkers who raise $50 or more will receive an Autism Acceptance t-shirt (while supplies last).
X-ALT-DESC;FMTTYPE=text/html:<span style="font-size:20px\;"><strong>Autism Acceptance Walk</strong></span><br />\nHosted annually by The Arc Jefferson - St. Lawrence Foundation\, this is a non-competitive walk to promote Autism Acceptance and raise funds to support local programs for people on the Autism Spectrum. Pre-registration is not required.<br />\n<br />\nTo make your donation to support local programs for people on the Autism Spectrum\, visit <a href="http://www.thearcjslc.org" target="_blank">www.thearcjslc.org</a>.&nbsp\;Walkers who raise $50 or more will receive an Autism Acceptance t-shirt (while supplies last).
LOCATION:SUNY Canton Roos House 34 Cornell Drive Canton\, NY 13617
UID:e.2288.18973
SEQUENCE:3
DTSTAMP:20260421T155217Z
URL:https://business.visitstlc.com/events/details/autism-acceptance-walk-04-05-2025-18973
END:VEVENT

END:VCALENDAR
