BEGIN:VCALENDAR
VERSION:2.0
PRODID:-//ChamberMaster//Event Calendar 2.0//EN
METHOD:PUBLISH
X-PUBLISHED-TTL:P3D
REFRESH-INTERVAL:P3D
CALSCALE:GREGORIAN
BEGIN:VEVENT
DTSTART:20240703T233000Z
DTEND:20240704T013000Z
X-MICROSOFT-CDO-ALLDAYEVENT:FALSE
SUMMARY:An American Salute ONNY Performance
DESCRIPTION:AN AMERICAN SALUTE\n\nPERFORMANCE BY ONNY\n\nConducted by: Michael Colburn\n\n\n\nJoin Orchestra of Northern New York (ONNY) as it salutes July 4th\, thanks active-duty military and veterans with patriotic favorites. This concert also offers wonderful opportunities for you and your family to celebrate America and our freedom as we pay homage to our veterans\, and those currently serving our country. Enjoy Armed Forces Salute and The Stars and Stripes Forever\, among other favorites. Musical fireworks will abound!\n\n\n\nProgram to Include\n\n	"Jubilee" from Symphonic Sketches composed by George Whitefield Chadwick\n	Liberty Bell March composed by John Philip Sousa\n	Cuban Overture composed by George Gershwin\n	The Cowboys composed by John Williams\n	Selections from The Sound of Music composed by Richard Rodgers\n	American Salute composed by Morton Gould
X-ALT-DESC;FMTTYPE=text/html:<span style="color:#FF0000\;"><strong><span style="font-size:20px\;">AN AMERICAN SALUTE</span></strong></span><br />\n<span style="color:#0000FF\;"><strong><span style="font-size:20px\;">PERFORMANCE BY ONNY</span></strong></span><br />\n<span style="color:#FF0000\;"><span style="font-size:20px\;">Conducted by: Michael Colburn</span></span><br />\n<br />\nJoin Orchestra of Northern New York (ONNY) as it salutes July 4th\, thanks active-duty military and veterans with patriotic favorites.&nbsp\;This concert also offers wonderful opportunities for you and your family to celebrate America and our freedom as we pay homage to our veterans\, and those currently serving our country. Enjoy <em>Armed Forces Salute</em> and The <em>Stars and Stripes Forever</em>\, among other favorites.&nbsp\;Musical fireworks will abound!<br />\n<br />\n<span style="color:#0000FF\;"><span style="font-size:18px\;">Program to Include</span></span>\n<ul>\n	<li><strong>&quot\;Jubilee&quot\; from Symphonic Sketches</strong> composed by George Whitefield Chadwick</li>\n	<li><strong>Liberty Bell March </strong>composed by&nbsp\;John Philip Sousa</li>\n	<li><strong>Cuban Overture </strong>composed by&nbsp\;George Gershwin</li>\n	<li><strong>The Cowboys</strong> composed by&nbsp\;John Williams</li>\n	<li><strong>Selections from The Sound of Music </strong>composed by&nbsp\;Richard Rodgers</li>\n	<li><strong>American Salute</strong> composed by&nbsp\;Morton Gould</li>\n</ul>\n
LOCATION:Helen M. Hosmer Concert Hall\, SUNY Potsdam 44 Pierrpont Avenue Potsdam\, NY 13676 View a Campus Map HERE
UID:e.2288.17968
SEQUENCE:3
DTSTAMP:20260419T202825Z
URL:https://business.visitstlc.com/events/details/an-american-salute-onny-performance-17968
END:VEVENT

END:VCALENDAR
