BEGIN:VCALENDAR
VERSION:2.0
PRODID:-//ChamberMaster//Event Calendar 2.0//EN
METHOD:PUBLISH
X-PUBLISHED-TTL:P3D
REFRESH-INTERVAL:P3D
CALSCALE:GREGORIAN
BEGIN:VEVENT
DTSTART:20241020T160000Z
DTEND:20241020T160000Z
X-MICROSOFT-CDO-ALLDAYEVENT:FALSE
SUMMARY:5k Fun Walk/Run
DESCRIPTION:5k Fun Walk/Run\n\n\n\nThis fall 5k Fun Walk/Run is a donation based 5k to help aid the Victims of Hurricane Helene. Lunch provided by Josh from the blue house and raffle basket tickets from several local business are available for purchase. Come on out\, enjoy the change of the season and show your support for community.
X-ALT-DESC;FMTTYPE=text/html:<span style="font-size:20px\;"><strong>5k Fun Walk/Run</strong></span><br />\n<br />\nThis fall 5k Fun Walk/Run is a donation based 5k to help aid the Victims of Hurricane Helene. Lunch provided by Josh from the blue house and raffle basket tickets from several local business are available for purchase. Come on out\, enjoy the change of the season and show your support for community.
LOCATION:Remington Recreational Trail Sullivan Drive Canton\, NY
UID:e.2288.18785
SEQUENCE:3
DTSTAMP:20260421T230244Z
URL:https://business.visitstlc.com/events/details/5k-fun-walk-run-18785
END:VEVENT

END:VCALENDAR
