BEGIN:VCALENDAR
VERSION:2.0
PRODID:-//ChamberMaster//Event Calendar 2.0//EN
METHOD:PUBLISH
X-PUBLISHED-TTL:P3D
REFRESH-INTERVAL:P3D
CALSCALE:GREGORIAN
BEGIN:VEVENT
DTSTART;VALUE=DATE:20240703
DTEND;VALUE=DATE:20240705
TRANSP:TRANSPARENT
X-MICROSOFT-CDO-ALLDAYEVENT:TRUE
SUMMARY:4th of July Events in Higley Flow
DESCRIPTION:4TH OF JULY EVENTS\n\nHIGLEY FLOW (COLTON\, NY)\n\n\n\nThe community living along Higley Flow in Colton will kick off Independence Day with its annual "River of Lights" celebration\, children's parade and boat parade.\n\n\n\nWednesday\, July 3\n\nRiver of Lights: 9:15pm - 10:30pm. Residents living along Higley Flow will light flares along the shore and light up the river! The best view of the lights can be seen from boats on the water.\n\n\n\nThursday\, July 4\n\nThe annual Children's Parade will step off at the junction of Cottage Road and Arbuckle Pond Road at 10:00am. Children and adults wearing patriotic colors and outfits will march up Cottage Road to Gulf Road. Boats following along with the marchers along the shore are encouraged to decorate their boat in honor of July 4.
X-ALT-DESC;FMTTYPE=text/html:<span style="font-size:20px\;"><span style="color:#FF0000\;"><strong>4TH OF JULY EVENTS</strong></span><br />\n<span style="color:#0000FF\;"><strong>HIGLEY FLOW (COLTON\, NY)</strong></span></span><br />\n<br />\nThe community living along Higley Flow in Colton will kick off Independence Day with its annual &quot\;River of Lights&quot\; celebration\, children&#39\;s parade and boat parade.<br />\n<br />\n<span style="color:#FF0000\;"><strong>Wednesday\, July 3</strong></span><br />\n<strong><a href="https://www.facebook.com/events/247324087782631"><span style="color:#0000FF\;">River of Lights</span></a></strong>: 9:15pm - 10:30pm. Residents living along Higley Flow will light flares along the shore and light up the river! The best view of the lights can be seen from boats on the water.<br />\n<br />\n<span style="color:#FF0000\;"><strong>Thursday\, July 4</strong></span><br />\nThe annual <strong><a href="https://www.facebook.com/events/124166893987445"><span style="color:#0000FF\;">Children&#39\;s Parade</span></a></strong> will step off at the junction of Cottage Road and Arbuckle Pond Road at 10:00am. Children and adults wearing patriotic colors and outfits will march up Cottage Road to Gulf Road. Boats following along with the marchers along the shore are encouraged to decorate their boat in honor of July 4.
LOCATION:Shorelines along Higley Flow (Colton\, NY)
UID:e.2288.17970
SEQUENCE:3
DTSTAMP:20260419T215642Z
URL:https://business.visitstlc.com/events/details/4th-of-july-events-in-higley-flow-17970
END:VEVENT

END:VCALENDAR
