BEGIN:VCALENDAR
VERSION:2.0
PRODID:-//ChamberMaster//Event Calendar 2.0//EN
METHOD:PUBLISH
X-PUBLISHED-TTL:P3D
REFRESH-INTERVAL:P3D
CALSCALE:GREGORIAN
BEGIN:VEVENT
DTSTART:20210608T130000Z
DTEND:20210609T130000Z
X-MICROSOFT-CDO-ALLDAYEVENT:FALSE
SUMMARY:VTC’s St. Lawrence County Golf Tournament
DESCRIPTION:The Volunteer Transportation Center\, Inc. (VTC) will mark the sixth year of its Annual Volunteer Transportation Center St. Lawrence County\n\nGolf Tournament by hosting it at a new location.\n\n \n\n        This year\, the tournament is slated for Friday\, July 16\, at Emerald Greens Golf Course\, 1485 U.S. Route 11\, Gouverneur\, with a shotgun start at 9 a.m.\n\n \n\n        "With the ongoing COVID-19 pandemic\, we've looked at ways to shake things up and reinvigorate interest in our fundraisers\, like our golf tournaments\," said Jeremiah S. Papineau\, the nonprofit organization's Director of Communications and Foundation Director. "We've had interest over the years of hosting this tournament at different locations in St. Lawrence County and we thought we'd give it a shot this year."\n\n \n\n        Though in a new location\, the Volunteer Transportation Center St. Lawrence County Golf Tournament will continue to follow a captain and crew format. Registration will remain at $300 per team\, which includes a cart\, dinner and tournament shirt. Skins and super skins may be purchased at registration. Raffles and a 50-50 drawing will also round out the event. Only the first 36 teams to register can be included.\n\n        Due to the ongoing pandemic\, the VTC will follow New York State mandates and adhere to CDC guidelines\, including providing face coverings for use when social distancing is not possible. Hand sanitizer will also be provided. As guidance from the state and the CDC is ever-changing during these uncertain times\, the VTC will also follow any other protocols put in place as well as that implemented by Emerald Greens Golf Course.\n\n \n\n        The tournament will take place regardless of weather\, so no rain date or refunds will be offered. However\, if this event is canceled due to restrictions put in place over COVID-19\, refunds will be offered.\n\n \n\n        This event is underwritten by Excellus BlueCross Blue Shield\, Watertown Savings Bank\, Stewart's Shops/The Dake Family Foundation\, the Glenn & Carol Pearsall Adirondack Foundation and the Pratt-Northam Foundation with Eagle Level sponsorship from Benefit Services Group. Monetary and in-kind donation sponsors are still being sought.\n\n \n\n        Those interested in playing or becoming a sponsor may call 315-303-2590\, send an email to foundation@volunteertransportation.org or visit www.volunteertransportationcenter.org.
X-ALT-DESC;FMTTYPE=text/html:<p class="m_-735031164175351774BasicParagraph" style="margin: 0in 0in 0.0001pt\; line-height: 19.2px\; font-size: 12pt\; font-family: MinionPro-Regular\; background-color: rgb(255\, 255\, 255)\; text-align: justify\;"><span style="font-family: &quot\;Times New Roman&quot\;\, serif\;">The Volunteer Transportation Center\, Inc. (VTC) will mark the sixth year of its Annual Volunteer Transportation Center St. Lawrence County<br />\nGolf Tournament by hosting it at a new location.</span></p>\n\n<p class="m_-735031164175351774BasicParagraph" style="margin: 0in 0in 0.0001pt\; line-height: 19.2px\; font-size: 12pt\; font-family: MinionPro-Regular\; background-color: rgb(255\, 255\, 255)\; text-align: justify\;"><span style="font-size: 6pt\; line-height: 9.6px\; font-family: &quot\;Times New Roman&quot\;\, serif\;">&nbsp\;</span></p>\n\n<p class="m_-735031164175351774BasicParagraph" style="margin: 0in 0in 0.0001pt\; line-height: 19.2px\; font-size: 12pt\; font-family: MinionPro-Regular\; background-color: rgb(255\, 255\, 255)\; text-align: justify\;"><span style="font-family: &quot\;Times New Roman&quot\;\, serif\;">&nbsp\;&nbsp\;&nbsp\;&nbsp\;&nbsp\;&nbsp\;&nbsp\; This year\, the tournament is slated for&nbsp\;<b><u>Friday\, July 16\,</u></b>&nbsp\;at Emerald Greens Golf Course\, 1485 U.S. Route 11\, Gouverneur\, with a shotgun start at 9 a.m.</span></p>\n\n<p class="m_-735031164175351774BasicParagraph" style="margin: 0in 0in 0.0001pt\; line-height: 19.2px\; font-size: 12pt\; font-family: MinionPro-Regular\; background-color: rgb(255\, 255\, 255)\; text-align: justify\;"><span style="font-size: 6pt\; line-height: 9.6px\; font-family: &quot\;Times New Roman&quot\;\, serif\;">&nbsp\;</span></p>\n\n<p class="m_-735031164175351774BasicParagraph" style="margin: 0in 0in 0.0001pt\; line-height: 19.2px\; font-size: 12pt\; font-family: MinionPro-Regular\; background-color: rgb(255\, 255\, 255)\; text-align: justify\;"><span style="font-family: &quot\;Times New Roman&quot\;\, serif\;">&nbsp\;&nbsp\;&nbsp\;&nbsp\;&nbsp\;&nbsp\;&nbsp\; &ldquo\;With the ongoing COVID-19 pandemic\, we&rsquo\;ve looked at ways to shake things up and reinvigorate interest in our fundraisers\, like our golf tournaments\,&rdquo\; said Jeremiah S. Papineau\, the nonprofit organization&rsquo\;s Director of Communications and Foundation Director. &ldquo\;We&rsquo\;ve had interest over the years of hosting this tournament at different locations in St. Lawrence County and we thought we&rsquo\;d give it a shot this year.&rdquo\;</span></p>\n\n<p class="m_-735031164175351774BasicParagraph" style="margin: 0in 0in 0.0001pt\; line-height: 19.2px\; font-size: 12pt\; font-family: MinionPro-Regular\; background-color: rgb(255\, 255\, 255)\; text-align: justify\;"><span style="font-size: 6pt\; line-height: 9.6px\; font-family: &quot\;Times New Roman&quot\;\, serif\;">&nbsp\;</span></p>\n\n<p class="m_-735031164175351774BasicParagraph" style="margin: 0in 0in 0.0001pt\; line-height: 19.2px\; font-size: 12pt\; font-family: MinionPro-Regular\; background-color: rgb(255\, 255\, 255)\; text-align: justify\;"><span style="font-family: &quot\;Times New Roman&quot\;\, serif\;">&nbsp\;&nbsp\;&nbsp\;&nbsp\;&nbsp\;&nbsp\;&nbsp\; Though in a new location\, the Volunteer Transportation Center St. Lawrence County Golf Tournament will continue to follow a captain and crew format. Registration will remain at $300 per team\, which includes a cart\, dinner and tournament shirt. Skins and super skins may be purchased at registration. Raffles and a 50-50 drawing will also round out the event.&nbsp\;<b><u>Only the first 36 teams to register can be included</u></b>.</span></p>\n\n<p class="m_-735031164175351774BasicParagraph" style="margin: 0in 0in 0.0001pt\; line-height: 19.2px\; font-size: 12pt\; font-family: MinionPro-Regular\; background-color: rgb(255\, 255\, 255)\; text-align: justify\;"><span style="font-family: &quot\;Times New Roman&quot\;\, serif\;">&nbsp\;&nbsp\;&nbsp\;&nbsp\;&nbsp\;&nbsp\;&nbsp\; Due to the ongoing pandemic\, the VTC will follow New York State mandates and adhere to CDC guidelines\, including providing face coverings for use when social distancing is not possible. Hand sanitizer will also be provided. As guidance from the state and the CDC is ever-changing during these uncertain times\, the VTC will also follow any other protocols put in place as well as that implemented by Emerald Greens Golf Course.</span></p>\n\n<p class="m_-735031164175351774BasicParagraph" style="margin: 0in 0in 0.0001pt\; line-height: 19.2px\; font-size: 12pt\; font-family: MinionPro-Regular\; background-color: rgb(255\, 255\, 255)\; text-align: justify\;"><span style="font-size: 6pt\; line-height: 9.6px\; font-family: &quot\;Times New Roman&quot\;\, serif\;">&nbsp\;</span></p>\n\n<p class="m_-735031164175351774BasicParagraph" style="margin: 0in 0in 0.0001pt\; line-height: 19.2px\; font-size: 12pt\; font-family: MinionPro-Regular\; background-color: rgb(255\, 255\, 255)\; text-align: justify\;"><span style="font-family: &quot\;Times New Roman&quot\;\, serif\;">&nbsp\;&nbsp\;&nbsp\;&nbsp\;&nbsp\;&nbsp\;&nbsp\; The tournament will take place regardless of weather\, so no rain date or refunds will be offered. However\, if this event is canceled due to restrictions put in place over COVID-19\, refunds will be offered.</span></p>\n\n<p class="m_-735031164175351774BasicParagraph" style="margin: 0in 0in 0.0001pt\; line-height: 19.2px\; font-size: 12pt\; font-family: MinionPro-Regular\; background-color: rgb(255\, 255\, 255)\; text-align: justify\;"><span style="font-size: 6pt\; line-height: 9.6px\; font-family: &quot\;Times New Roman&quot\;\, serif\;">&nbsp\;</span></p>\n\n<p class="m_-735031164175351774BasicParagraph" style="margin: 0in 0in 0.0001pt\; line-height: 19.2px\; font-size: 12pt\; font-family: MinionPro-Regular\; background-color: rgb(255\, 255\, 255)\; text-align: justify\;"><span style="font-family: &quot\;Times New Roman&quot\;\, serif\;">&nbsp\;&nbsp\;&nbsp\;&nbsp\;&nbsp\;&nbsp\;&nbsp\; This event is underwritten by Excellus BlueCross Blue Shield\, Watertown Savings Bank\, Stewart&rsquo\;s Shops/The Dake Family Foundation\, the Glenn &amp\; Carol Pearsall Adirondack Foundation and the Pratt-Northam Foundation with Eagle Level sponsorship from Benefit Services Group. Monetary and in-kind donation sponsors are still being sought.</span></p>\n\n<p class="m_-735031164175351774BasicParagraph" style="margin: 0in 0in 0.0001pt\; line-height: 19.2px\; font-size: 12pt\; font-family: MinionPro-Regular\; background-color: rgb(255\, 255\, 255)\; text-align: justify\;"><span style="font-size: 6pt\; line-height: 9.6px\; font-family: &quot\;Times New Roman&quot\;\, serif\;">&nbsp\;</span></p>\n\n<p class="m_-735031164175351774BasicParagraph" style="margin: 0in 0in 0.0001pt\; line-height: 19.2px\; font-size: 12pt\; font-family: MinionPro-Regular\; background-color: rgb(255\, 255\, 255)\; text-align: justify\;"><span style="font-family: &quot\;Times New Roman&quot\;\, serif\;">&nbsp\;&nbsp\;&nbsp\;&nbsp\;&nbsp\;&nbsp\;&nbsp\; Those interested in playing or becoming a sponsor may call 315-303-2590\, send an email to&nbsp\;</span><span class="m_-735031164175351774MsoHyperlink" style="color: rgb(5\, 99\, 193)\; text-decoration-line: underline\;"><b><span style="font-family: &quot\;Times New Roman&quot\;\, serif\;"><a href="mailto:foundation@volunteertransportation.org" style="color: rgb(17\, 85\, 204)\;" target="_blank">foundation@<wbr />volunteertransportation.org</a></span></b></span><span style="font-family: &quot\;Times New Roman&quot\;\, serif\;">&nbsp\;or visit&nbsp\;</span><span class="m_-735031164175351774MsoHyperlink" style="color: rgb(5\, 99\, 193)\; text-decoration-line: underline\;"><b><span style="font-family: &quot\;Times New Roman&quot\;\, serif\;"><a data-saferedirecturl="https://www.google.com/url?q=http://www.volunteertransportationcenter.org&amp\;source=gmail&amp\;ust=1623263395921000&amp\;usg=AFQjCNGf_piJXHC-ocrGdgtAIggRcG3uOw" href="http://www.volunteertransportationcenter.org/" style="color: rgb(17\, 85\, 204)\;" target="_blank">www.<wbr />volunteertransportationcenter.<wbr />org</a></span></b></span><span style="font-family: &quot\;Times New Roman&quot\;\, serif\;">.</span></p>\n
LOCATION:Emerald Greens Golf Course\, 1485 U.S. Route 11\, Gouverneur
UID:e.2288.10461
SEQUENCE:3
DTSTAMP:20260422T062138Z
URL:http://business.visitstlc.com/events/details/vtc-s-st-lawrence-county-golf-tournament-10461
END:VEVENT

END:VCALENDAR
