BEGIN:VCALENDAR
VERSION:2.0
PRODID:-//ChamberMaster//Event Calendar 2.0//EN
METHOD:PUBLISH
X-PUBLISHED-TTL:P3D
REFRESH-INTERVAL:P3D
CALSCALE:GREGORIAN
BEGIN:VEVENT
DTSTART;VALUE=DATE:20200614
DTEND;VALUE=DATE:20200615
TRANSP:TRANSPARENT
X-MICROSOFT-CDO-ALLDAYEVENT:TRUE
SUMMARY:Visit a NY State park
DESCRIPTION:Visit a state park\, see new birds\, flowers and budding trees. Map of State Parks here\n\n						 \n\n						NYS Parks\, Recreation and Historic Preservation-Nature Nearby. State Park environmental educators have compiled innovative ideas and creative activities to explore the outdoors near you Website Here
X-ALT-DESC;FMTTYPE=text/html:<table border="0" cellpadding="0" cellspacing="0" style="color: rgb(0\, 0\, 0)\; font-family: arial\, sans-serif\; font-size: 13px\; background-color: rgb(255\, 255\, 255)\; min-width: 100%\;" width="100%">\n	<tbody>\n		<tr>\n			<td align="" class="m_-3569114289590037022editor-col m_-3569114289590037022OneColumnMobile" valign="top" width="100%">\n			<table border="0" cellpadding="0" cellspacing="0" style="color: rgb(0\, 0\, 0)\; font-size: 13px\; min-width: 100%\;" width="100%">\n				<tbody>\n					<tr>\n						<td align="" class="m_-3569114289590037022editor-col m_-3569114289590037022OneColumnMobile" valign="top" width="100%">\n						<table border="0" cellpadding="0" cellspacing="0" style="min-width: 100%\;" width="100%">\n							<tbody>\n							</tbody>\n						</table>\n						</td>\n					</tr>\n				</tbody>\n			</table>\n\n			<table border="0" cellpadding="0" cellspacing="0" style="color: rgb(0\, 0\, 0)\; font-size: 13px\; min-width: 100%\;" width="100%">\n				<tbody>\n					<tr>\n						<td align="" class="m_-3569114289590037022editor-col m_-3569114289590037022OneColumnMobile" valign="top" width="100%">\n						<div style="color: rgb(74\, 74\, 74)\; font-size: 16px\;"><span style="font-size: 14px\; font-family: Arial\, Verdana\, Helvetica\, sans-serif\;">Visit a state park\, see new birds\, flowers and budding trees.&nbsp\;</span><a data-saferedirecturl="https://www.google.com/url?hl=en&amp\;q=http://r20.rs6.net/tn.jsp?f%3D001K_J4yOp2uh7gSFysbh-Q0OoUwqCYU1LGiTiAV2CVvD6FJoAtqxF9VT9qJQMgfiD5B6RS-LbM8El7xOiA6MQvtUQzNyS8Q1G12c8Y3LXajqSy7FnAN0zY4uYbj0x4Hp3pXVL6rve3sjTOMeq1x-WLf1mjG026cy2JhP7XXYDhq_FVb3TIn1E3VkKilbRzzIYg%26c%3D2xJZsEEpTrFbKCuZWRbPZUGjWfMLvnOw52HLproxW_9INg5huEBNUw%3D%3D%26ch%3DZvawvX12Kvxov-Q2fv20sQnFH8ndGK1cl7_hKYMKAxTmDlvPG4vqOg%3D%3D&amp\;source=gmail&amp\;ust=1591219655848000&amp\;usg=AFQjCNF_YY2h8rKkC2qKavhc22hVVlUwUw" href="http://r20.rs6.net/tn.jsp?f=001K_J4yOp2uh7gSFysbh-Q0OoUwqCYU1LGiTiAV2CVvD6FJoAtqxF9VT9qJQMgfiD5B6RS-LbM8El7xOiA6MQvtUQzNyS8Q1G12c8Y3LXajqSy7FnAN0zY4uYbj0x4Hp3pXVL6rve3sjTOMeq1x-WLf1mjG026cy2JhP7XXYDhq_FVb3TIn1E3VkKilbRzzIYg&amp\;c=2xJZsEEpTrFbKCuZWRbPZUGjWfMLvnOw52HLproxW_9INg5huEBNUw==&amp\;ch=ZvawvX12Kvxov-Q2fv20sQnFH8ndGK1cl7_hKYMKAxTmDlvPG4vqOg==" rel="noopener noreferrer" style="font-family: Arial\, Verdana\, Helvetica\, sans-serif\; color: rgb(12\, 60\, 143)\; font-size: 14px\; font-weight: bold\;" target="_blank">Map of State Parks here</a></div>\n\n						<div style="color: rgb(74\, 74\, 74)\; font-size: 16px\;">&nbsp\;</div>\n\n						<div style="color: rgb(74\, 74\, 74)\; font-size: 16px\;"><span style="font-size: 14px\; color: rgb(0\, 0\, 0)\; font-family: Arial\, Verdana\, Helvetica\, sans-serif\;">NYS Parks\, Recreation and Historic Preservation-Nature Nearby.</span><span style="font-size: 14px\; color: rgb(0\, 0\, 0)\; font-family: Arial\, Verdana\, Helvetica\, sans-serif\; font-weight: bold\;">&nbsp\;</span><span style="font-size: 14px\; color: rgb(0\, 0\, 0)\; font-family: Arial\, Verdana\, Helvetica\, sans-serif\;">State Park environmental educators have compiled innovative ideas and creative activities to explore the outdoors near you&nbsp\;</span><span style="font-size: 14px\; color: rgb(41\, 75\, 147)\; font-family: Arial\, Verdana\, Helvetica\, sans-serif\; font-weight: bold\;">Website Here</span></div>\n						</td>\n					</tr>\n				</tbody>\n			</table>\n			</td>\n		</tr>\n	</tbody>\n</table>\n\n<table border="0" cellpadding="0" cellspacing="0" style="color: rgb(0\, 0\, 0)\; font-family: arial\, sans-serif\; font-size: 13px\; background-color: rgb(255\, 255\, 255)\; min-width: 100%\;" width="100%">\n	<tbody>\n		<tr>\n			<td align="" class="m_-3569114289590037022editor-col m_-3569114289590037022OneColumnMobile" valign="top" width="100%">\n			<table border="0" cellpadding="0" cellspacing="0" style="min-width: 100%\;" width="100%">\n				<tbody>\n				</tbody>\n			</table>\n			</td>\n		</tr>\n	</tbody>\n</table>\n
LOCATION:
UID:e.2288.9777
SEQUENCE:3
DTSTAMP:20260424T091700Z
URL:http://business.visitstlc.com/events/details/visit-a-ny-state-park-9777
END:VEVENT

END:VCALENDAR
