BEGIN:VCALENDAR
VERSION:2.0
PRODID:-//ChamberMaster//Event Calendar 2.0//EN
METHOD:PUBLISH
X-PUBLISHED-TTL:P3D
REFRESH-INTERVAL:P3D
CALSCALE:GREGORIAN
BEGIN:VEVENT
DTSTART:20210615T180000Z
DTEND:20210615T193000Z
X-MICROSOFT-CDO-ALLDAYEVENT:FALSE
SUMMARY:Understanding and Responding to Dementia Related Behavior (Virtual)
DESCRIPTION:To register and for information go to https://www.communityresourcefinder.org/ResourceView/Index?id=2156509&profileDefinitionId=93
X-ALT-DESC;FMTTYPE=text/html:To register and for information go to<a href="http://https://www.communityresourcefinder.org/ResourceView/Index?id=2156509&amp\;profileDefinitionId=93">&nbsp\;https://www.communityresourcefinder.org/ResourceView/Index?id=2156509&amp\;profileDefinitionId=93</a>
LOCATION:
UID:e.2288.10392
SEQUENCE:3
DTSTAMP:20260422T043707Z
URL:http://business.visitstlc.com/events/details/understanding-and-responding-to-dementia-related-behavior-virtual-10392
END:VEVENT

END:VCALENDAR
