BEGIN:VCALENDAR
VERSION:2.0
PRODID:-//ChamberMaster//Event Calendar 2.0//EN
METHOD:PUBLISH
X-PUBLISHED-TTL:P3D
REFRESH-INTERVAL:P3D
CALSCALE:GREGORIAN
BEGIN:VEVENT
DTSTART:20231020T220000Z
DTEND:20231021T000000Z
X-MICROSOFT-CDO-ALLDAYEVENT:FALSE
SUMMARY:Trunk-or-Treat: Hermon DeKalb
DESCRIPTION:TRUNK-OR-TREAT: HERMON DEKALB\n\nThe annual Hermon DeKalb Booster Club Trunk-or-Treat event will take place on Friday\, October 20 from 6:00-8:00pm at the school bus garage. All Hermon-DeKalb families and children are invited. Prizes will be given for Most Creative\, Funniest\, and Scariest!\n\n\n\nEvent organizers are looking for community members who would be interested in entering their vehicle for the event! Vehicle setup occurs from 4:30-6:00pm on the day of the event. If you would like to learn more\, please contact Beth Holland at eholland@hdcsk12.org. The deadline to enter your vehicle into the event is Friday\, Oct. 13.
X-ALT-DESC;FMTTYPE=text/html:<span style="color:#FF8C00\;"><span style="font-size:20px\;"><strong>TRUNK-OR-TREAT: HERMON DEKALB</strong></span></span><br />\nThe annual Hermon DeKalb Booster Club Trunk-or-Treat event will take place on Friday\, October 20 from 6:00-8:00pm at the school bus garage.&nbsp\;All Hermon-DeKalb families and children are invited. Prizes will be given for Most Creative\, Funniest\, and Scariest!<br />\n<br />\n<sub>Event organizers are looking for community members who would be interested in entering their vehicle for the event! Vehicle setup occurs from 4:30-6:00pm on the day of the event. If you would like to learn more\, please contact Beth Holland at eholland@hdcsk12.org. The deadline to enter your vehicle into the event is Friday\, Oct. 13.</sub>
LOCATION:Hermon DeKalb Bus Garage 709 E. DeKalb
UID:e.2288.15408
SEQUENCE:3
DTSTAMP:20260422T133255Z
URL:http://business.visitstlc.com/events/details/trunk-or-treat-hermon-dekalb-15408
END:VEVENT

END:VCALENDAR
