BEGIN:VCALENDAR
VERSION:2.0
PRODID:-//ChamberMaster//Event Calendar 2.0//EN
METHOD:PUBLISH
X-PUBLISHED-TTL:P3D
REFRESH-INTERVAL:P3D
CALSCALE:GREGORIAN
BEGIN:VEVENT
DTSTART:20210918T130000Z
DTEND:20210918T210000Z
X-MICROSOFT-CDO-ALLDAYEVENT:FALSE
SUMMARY:TRUCK PULL-Celebrating 100 Years of Pulling for the North Country Families
DESCRIPTION:Sponsored by the United Way of the North Country
X-ALT-DESC;FMTTYPE=text/html:Sponsored by the United Way of the North Country
LOCATION:at SUNY Canton
UID:e.2288.10482
SEQUENCE:3
DTSTAMP:20260421T163525Z
URL:http://business.visitstlc.com/events/details/truck-pull-celebrating-100-years-of-pulling-for-the-north-country-families-10482
END:VEVENT

END:VCALENDAR
