BEGIN:VCALENDAR
VERSION:2.0
PRODID:-//ChamberMaster//Event Calendar 2.0//EN
METHOD:PUBLISH
X-PUBLISHED-TTL:P3D
REFRESH-INTERVAL:P3D
CALSCALE:GREGORIAN
BEGIN:VEVENT
DTSTART:20250216T150000Z
DTEND:20250216T160000Z
X-MICROSOFT-CDO-ALLDAYEVENT:FALSE
SUMMARY:Tracking Tracks in Heritage Park
DESCRIPTION:Tracking Tracks in Heritage Park\n\n\n\nJoin Dan French of Nature Up North on Sunday\, Feb. 16th at 10am in the heart of Canton for a walk around Heritage Park on a hunt for animal tracks. Learn the basics of animal track identification and what we would expect to find on an island in the middle of the Grasse River.\n\n\n\nThe parking lot in Heritage Park is not plowed in the winter\, so park in the lots next to Main Street if you'd like to come! Traction devices are heavily recommended! The trail is packed and frozen from foot traffic.
X-ALT-DESC;FMTTYPE=text/html:<span style="font-size:20px\;"><strong>Tracking Tracks in Heritage Park</strong></span><br />\n<br />\nJoin Dan French of Nature Up North on Sunday\, Feb. 16th at 10am in the heart of Canton for a walk around Heritage Park on a hunt for animal tracks. Learn the basics of animal track identification and what we would expect to find on an island in the middle of the Grasse River.<br />\n<br />\nThe parking lot in Heritage Park is not plowed in the winter\, so park in the lots next to Main Street if you&#39\;d like to come! Traction devices are heavily recommended! The trail is packed and frozen from foot traffic.
LOCATION:Heritage Park 1 W Main Street Canton\, NY 13617
UID:e.2288.19058
SEQUENCE:3
DTSTAMP:20260422T020413Z
URL:http://business.visitstlc.com/events/details/tracking-tracks-in-heritage-park-19058
END:VEVENT

END:VCALENDAR
