BEGIN:VCALENDAR
VERSION:2.0
PRODID:-//ChamberMaster//Event Calendar 2.0//EN
METHOD:PUBLISH
X-PUBLISHED-TTL:P3D
REFRESH-INTERVAL:P3D
CALSCALE:GREGORIAN
BEGIN:VEVENT
DTSTART:20220409T110000Z
DTEND:20220409T173000Z
X-MICROSOFT-CDO-ALLDAYEVENT:FALSE
SUMMARY:The Maple Run
DESCRIPTION:As the only half marathon in St. Lawrence County\, The Maple Run aims to be both fun and festive. We run to celebrate the end of Winter and support local cross country running programs. Join us on a scenic\, fast course along St. Lawrence county roads\, by St. Lawrence University's campus and through the village of Canton. Run fast\, turn left.
X-ALT-DESC;FMTTYPE=text/html:As the only half marathon in St. Lawrence County\, The Maple Run aims to be both fun and festive. We run to celebrate the end of Winter and support local cross country running programs. Join us on a scenic\, fast course along St. Lawrence county roads\, by St. Lawrence University&#39\;s campus and through the village of Canton. Run fast\, turn left.
LOCATION:Taylor Park
UID:e.2288.10933
SEQUENCE:3
DTSTAMP:20260420T231150Z
URL:http://business.visitstlc.com/events/details/the-maple-run-04-09-2022-10933
END:VEVENT

END:VCALENDAR
