BEGIN:VCALENDAR
VERSION:2.0
PRODID:-//ChamberMaster//Event Calendar 2.0//EN
METHOD:PUBLISH
X-PUBLISHED-TTL:P3D
REFRESH-INTERVAL:P3D
CALSCALE:GREGORIAN
BEGIN:VEVENT
DTSTART:20220520T233000Z
DTEND:20220521T020000Z
X-MICROSOFT-CDO-ALLDAYEVENT:FALSE
SUMMARY:SUNY Potsdam Community Performance Series
DESCRIPTION:The Bernie Williams Collective\n\nCome listen to former New York Yankee turned musician! Williams has been playing the guitar since just 8 years old! His first album The Journey Within from 2003 reached #3 on Billboards "Contemporary Jazz Chart" and his second album Moving Forward debuted as Billboards #2 Contemporary Jazz album in the country\, holding that position for 5 weeks\, while also earning two consecutive Billboard #1 singles!
X-ALT-DESC;FMTTYPE=text/html:The Bernie Williams Collective<br />\nCome listen to former New York Yankee turned musician! Williams has been playing the guitar since just 8 years old! His first album <i>The Journey Within</i>&nbsp\;from 2003 reached #3 on Billboards &quot\;Contemporary Jazz Chart&quot\; and his second album&nbsp\;<em>Moving Forward&nbsp\;</em>debuted as Billboards #2 Contemporary Jazz album in the country\, holding that position for 5 weeks\, while also earning two consecutive Billboard #1 singles!
LOCATION:Hosmer Hall College Park Road Potsdam\, NY 13676
UID:e.2288.10940
SEQUENCE:3
DTSTAMP:20260420T231445Z
URL:http://business.visitstlc.com/events/details/suny-potsdam-community-performance-series-10940
END:VEVENT

END:VCALENDAR
