BEGIN:VCALENDAR
VERSION:2.0
PRODID:-//ChamberMaster//Event Calendar 2.0//EN
METHOD:PUBLISH
X-PUBLISHED-TTL:P3D
REFRESH-INTERVAL:P3D
CALSCALE:GREGORIAN
BEGIN:VEVENT
DTSTART:20250305T230000Z
DTEND:20250306T010000Z
X-MICROSOFT-CDO-ALLDAYEVENT:FALSE
SUMMARY:SLC Arts Writers Group
DESCRIPTION:SLC Arts Writers Group\n\nWriters Group is a welcoming space for writers of all levels and genres to connect\, share\, and grow.
X-ALT-DESC;FMTTYPE=text/html:<p><span style="font-size:18px\;"><strong>SLC Arts Writers Group</strong></span><br />\nWriters Group is a welcoming space for writers of all levels and genres to connect\, share\, and grow.&nbsp\;</p>\n
LOCATION:Creative Spirit Community Arts Center 6-8 Raymond Street Potsdam\, NY 13676
UID:e.2288.19975
SEQUENCE:3
DTSTAMP:20260421T215546Z
URL:http://business.visitstlc.com/events/details/slc-arts-writers-group-19975
END:VEVENT

END:VCALENDAR
