BEGIN:VCALENDAR
VERSION:2.0
PRODID:-//ChamberMaster//Event Calendar 2.0//EN
METHOD:PUBLISH
X-PUBLISHED-TTL:P3D
REFRESH-INTERVAL:P3D
CALSCALE:GREGORIAN
BEGIN:VEVENT
DTSTART:20210723T130000Z
DTEND:20210801T210000Z
X-MICROSOFT-CDO-ALLDAYEVENT:FALSE
SUMMARY:Seaway Festival
DESCRIPTION:Seaway Festival is a week-long celebration with events including parade and fireworks. A formal event calendar will be provided closer to the event.
X-ALT-DESC;FMTTYPE=text/html:<span style="font-size:16px\;"><strong>Seaway Festival </strong>is a week-long celebration with events including parade and fireworks. A formal event calendar will be provided closer to the event.</span>
LOCATION:City of Ogdensburg
UID:e.2288.10428
SEQUENCE:3
DTSTAMP:20260421T233418Z
URL:http://business.visitstlc.com/events/details/seaway-festival-10428
END:VEVENT

END:VCALENDAR
