BEGIN:VCALENDAR
VERSION:2.0
PRODID:-//ChamberMaster//Event Calendar 2.0//EN
METHOD:PUBLISH
X-PUBLISHED-TTL:P3D
REFRESH-INTERVAL:P3D
CALSCALE:GREGORIAN
BEGIN:VEVENT
DTSTART:20260604T213000Z
DTEND:20260605T010000Z
X-MICROSOFT-CDO-ALLDAYEVENT:FALSE
SUMMARY:Samaritan Medical Center Foundation- Thousand Islands Golf Classic
DESCRIPTION:Thousand Islands Golf Classic\n\nWe are excited to announce that the planning for Samaritan's 29th Annual Thousand Islands Golf Classic is underway!\n\n\n\nThis year's schedule is as follows:\n\n	Online Auction: Monday\, May 18 - Thursday\, June 4 -\n	Dinner and Live Auction: Thursday\, June 4th\, Edgewood Resort on the beautiful St. Lawrence River in Alexandria Bay -\n	Golf: Friday\, June 5\, at the Thousand Islands Country Club\, Wellesley Island.\n\n\n\nA portion of this year's Thousand Islands Golf Classic will again support the construction of a new $12 million Cardiac Catheterization Laboratory (Cath Lab) in the hospital\, a much-needed resource in the North Country.\n\n\n\nFunds raised will allow Samaritan to provide life-saving cardiac interventions in a state-of-the-art facility in Watertown. The new Cardiac Cath Lab will feature Percutaneous Coronary Intervention (PCI) capabilities\, allowing for rapid and effective treatment of heart attacks and other cardiovascular conditions. Currently\, patients must travel outside our region to access these critical services\, leading to treatment delays that can negatively impact care.
X-ALT-DESC;FMTTYPE=text/html:<span style="color:#B22222\;"><span style="font-size:22px\;">Thousand Islands Golf Classic</span></span><br />\nWe are excited to announce that the planning for Samaritan&rsquo\;s 29th Annual Thousand Islands Golf Classic is underway!<br />\n<br />\nThis year&rsquo\;s schedule is as follows:\n<ul>\n	<li>Online Auction: Monday\, May 18 - Thursday\, June 4 -</li>\n	<li>Dinner and Live Auction: Thursday\, June 4th\, Edgewood Resort on the beautiful St. Lawrence River in Alexandria Bay -</li>\n	<li>Golf: Friday\, June 5\, at the Thousand Islands Country Club\, Wellesley Island.</li>\n</ul>\n<br />\nA portion of this year&#39\;s Thousand Islands Golf Classic will again support the construction of a new $12 million Cardiac Catheterization Laboratory (Cath Lab) in the hospital\, a much-needed resource in the North Country.<br />\n<br />\nFunds raised will allow Samaritan to provide life-saving cardiac interventions in a state-of-the-art facility in Watertown. The new Cardiac Cath Lab will feature Percutaneous Coronary Intervention (PCI) capabilities\, allowing for rapid and effective treatment of heart attacks and other cardiovascular conditions. Currently\, patients must travel outside our region to access these critical services\, leading to treatment delays that can negatively impact care.
LOCATION:Dinner and Live Auction- The Edgewood Resort\, Alexandria Bay\, NY
UID:e.2288.20782
SEQUENCE:3
DTSTAMP:20260422T171651Z
URL:http://business.visitstlc.com/events/details/samaritan-medical-center-foundation-thousand-islands-golf-classic-20782
END:VEVENT

END:VCALENDAR
