BEGIN:VCALENDAR
VERSION:2.0
PRODID:-//ChamberMaster//Event Calendar 2.0//EN
METHOD:PUBLISH
X-PUBLISHED-TTL:P3D
REFRESH-INTERVAL:P3D
CALSCALE:GREGORIAN
BEGIN:VEVENT
DTSTART:20200502T130000Z
DTEND:20200503T180000Z
X-MICROSOFT-CDO-ALLDAYEVENT:FALSE
SUMMARY:Postponed-Canton Canoe Weekend
DESCRIPTION:POSTPONED-This is one of the premier canoe race weekends in New York State! May 2 and 3\, 2020. There are top-level international competitions in solo and tandem racing canoes and kayaks. The 12 and 14 mile courses are among the most challenging on the marathon race circuit. In addition\, there are 1\, 3\, 5 and 8 mile race events appropriate for the local recreational racer\, and a 2 mile team relay race for recreational paddlers. All races are on the Grasse and Little Rivers\, with the start and finish at Taylor Park\, Canton NY. Amenities include a children's playground on site\, race tee-shirts\, FFA chicken barbeque (Sat. only)\, music by DJ Double Dutch\, award ceremonies\, ample parking and free overnight camping .
X-ALT-DESC;FMTTYPE=text/html:<span style="color: rgb(29\, 33\, 41)\; font-family: Helvetica\, Arial\, sans-serif\; font-size: 14px\; white-space: pre-wrap\;"><strong>POSTPONED</strong>-This is one of the premier canoe race weekends in New York State! May 2 and 3\, 2020. There are top-level international competitions in solo and tandem racing canoes and kayaks. The 12 and 14 mile courses are among the most challenging on the marathon race circuit. In addition\, there are 1\, 3\, 5 and 8 mile race events appropriate for the local recreational racer\, and a 2 mile team relay race for recreational paddlers. All races are on the Grasse and Little Rivers\, with the start and finish at Taylor Park\, Canton NY. Amenities include a children&rsquo\;s playground on site\, race tee-shirts\, FFA chicken barbeque (Sat. only)\, music by DJ Double Dutch\, award ceremonies\, ample parking and free overnight camping .</span>
LOCATION:Taylor Park Canton\, NY 13617
UID:e.2288.9375
SEQUENCE:3
DTSTAMP:20260424T101053Z
URL:http://business.visitstlc.com/events/details/postponed-canton-canoe-weekend-9375
END:VEVENT

END:VCALENDAR
