BEGIN:VCALENDAR
VERSION:2.0
PRODID:-//ChamberMaster//Event Calendar 2.0//EN
METHOD:PUBLISH
X-PUBLISHED-TTL:P3D
REFRESH-INTERVAL:P3D
CALSCALE:GREGORIAN
BEGIN:VEVENT
DTSTART:20210613T230000Z
DTEND:20210614T010000Z
X-MICROSOFT-CDO-ALLDAYEVENT:FALSE
SUMMARY:Norwood Village Green Concert Series
DESCRIPTION:Sunday\, June 13 String Solstice with guest artist Andy Van Duyne String Solstice is a newly formed local group consisting of long-time musical collaborators well known to local audiences in their various capacities. With Michael Welch\, Jennifer Kessler\, Chris Hosmer\, Chip Lamson\, and Larry Baycura\, these individuals bring their wide-ranging skills together as only musical friends can. Andy Van Duyne will be their guest artist.
X-ALT-DESC;FMTTYPE=text/html:Sunday\, June 13 String Solstice with guest artist Andy Van Duyne String Solstice is a newly formed local group consisting of long-time musical collaborators well known to local audiences in their various capacities. With Michael Welch\, Jennifer Kessler\, Chris Hosmer\, Chip Lamson\, and Larry Baycura\, these individuals bring their wide-ranging skills together as only musical friends can. Andy Van Duyne will be their guest artist.
LOCATION:Liotta Band Shell on the Norwood Village Green
UID:e.2288.10297
SEQUENCE:3
DTSTAMP:20260422T044122Z
URL:http://business.visitstlc.com/events/details/norwood-village-green-concert-series-06-13-2021-10297
END:VEVENT

END:VCALENDAR
