BEGIN:VCALENDAR
VERSION:2.0
PRODID:-//ChamberMaster//Event Calendar 2.0//EN
METHOD:PUBLISH
X-PUBLISHED-TTL:P3D
REFRESH-INTERVAL:P3D
CALSCALE:GREGORIAN
BEGIN:VEVENT
DTSTART:20250208T120000Z
DTEND:20250208T210000Z
X-MICROSOFT-CDO-ALLDAYEVENT:FALSE
SUMMARY:Northern Pike Ice Fishing Derby
DESCRIPTION:Northern Pike Ice Fishing Derby\n\nHosted by Chippewa Bay Fish & Game Club\n\nChippewa Bay's annual family-friendly Northern Pike Ice Fishing Debry will be held on Saturday\, February 8th. Last year\, the club released over 180 Northern Pike! \n\n\n\nDerby Details:\n\n	For catch and release in Chippewa Bay only\n	All Pike must be minimum of 24"\n	$2\,000 in Cash Prizes Available\n	Adult Prize: $1\,000\n	Kids Prizes (top three): $500 each\n	Every Child Gets a Prize!\n	Food \n\nPre-Registration Details:\n\n\n	Chapman's Sport Shop\n\n	\n		Registration available now through Feb. 7th\n		2420 CR 6\, Hammond\, NY\n		p. 315.324.5265\n	\n	\n	Chippewa Bay Fish & Game Club\n	\n		 Register on Friday\, Feb. 7th beginning at noon\n		1198 CR6\, Hammond\, NY\n		p. 315.729.6254 (Club Pres. John Compo)\n	\n	\n\n+ Celebrate the Friday\, Feb. 7th from 8-11pm with Live Music by the Small Town Dreamers! \n\n\n\nDiscover more fishing events in St. Lawrence County and download a digital STLC Anglers Guide by visiting VisitSLTC.com/fish.
X-ALT-DESC;FMTTYPE=text/html:<span style="font-size:18px\;"><strong>Northern Pike Ice Fishing Derby</strong><br />\nHosted by Chippewa Bay Fish &amp\; Game Club</span><br />\nChippewa Bay&#39\;s annual family-friendly Northern Pike Ice Fishing Debry will be held on Saturday\, February 8th. Last year\, the club released over 180 Northern Pike!&nbsp\;<br />\n<br />\n<span style="font-size:16px\;"><u>Derby Details</u>:</span>\n<ul>\n	<li>For catch and release in Chippewa Bay only</li>\n	<li>All Pike must be minimum of 24&quot\;</li>\n	<li>$2\,000 in Cash Prizes Available</li>\n	<li>Adult Prize: $1\,000</li>\n	<li>Kids Prizes (top three): $500 each</li>\n	<li>Every Child Gets a Prize!</li>\n	<li>Food&nbsp\;</li>\n</ul>\n<span style="font-size:16px\;"><u>Pre-Registration Details</u>:</span>\n\n<ul>\n	<li><a href="https://www.facebook.com/p/Chapmans-Sport-Shop-100059037494159/" target="_blank">Chapman&#39\;s Sport Shop</a>\n\n	<ul>\n		<li>Registration available now through Feb. 7th</li>\n		<li>2420 CR 6\, Hammond\, NY</li>\n		<li>p. 315.324.5265</li>\n	</ul>\n	</li>\n	<li><a href="https://chippewabayfishandgameclub.org/" target="_blank">Chippewa Bay Fish &amp\; Game Club</a>\n	<ul>\n		<li><a href="https://chippewabayfishandgameclub.org/" target="_blank">&#8203\;</a>Register on Friday\, Feb. 7th beginning at noon</li>\n		<li>1198 CR6\, Hammond\, NY</li>\n		<li>p. 315.729.6254 (Club Pres. John Compo)</li>\n	</ul>\n	</li>\n</ul>\n+ Celebrate the Friday\, Feb. 7th from 8-11pm with Live Music by the Small Town Dreamers!&nbsp\;<br />\n<br />\n<em>Discover more fishing events in St. Lawrence County and download a digital STLC Anglers Guide by visiting <a href="http://www.VisitSLTC.com/fish" target="_blank">VisitSLTC.com/fish</a>.</em>
LOCATION:Chippewa Bay Fish & Game Club 1198 County Route 6\, Hammond\, NY 13623
UID:e.2288.19015
SEQUENCE:3
DTSTAMP:20260422T020449Z
URL:http://business.visitstlc.com/events/details/northern-pike-ice-fishing-derby-19015
END:VEVENT

END:VCALENDAR
