BEGIN:VCALENDAR
VERSION:2.0
PRODID:-//ChamberMaster//Event Calendar 2.0//EN
METHOD:PUBLISH
X-PUBLISHED-TTL:P3D
REFRESH-INTERVAL:P3D
CALSCALE:GREGORIAN
BEGIN:VEVENT
DTSTART:20220430T220000Z
DTEND:20220501T010000Z
X-MICROSOFT-CDO-ALLDAYEVENT:FALSE
SUMMARY:MDMS 2022-The Shoes...3 Hour Family Dance Evening
DESCRIPTION:30+ years performing the golden oldies of the 50's and 60's...wear your dancing shoes! Al Netto\, Herb Hughes\, Denny Verdon\, Ted Markwick\, and Bill Farr!
X-ALT-DESC;FMTTYPE=text/html:30+ years performing the golden oldies of the 50&#39\;s and 60&#39\;s...wear your dancing shoes! Al Netto\, Herb Hughes\, Denny Verdon\, Ted Markwick\, and Bill Farr!
LOCATION:Madrid Municipal Park Community Building 3529 CR 14 Madrid\, NY 13660
UID:e.2288.10895
SEQUENCE:3
DTSTAMP:20260421T005455Z
URL:http://business.visitstlc.com/events/details/mdms-2022-the-shoes-3-hour-family-dance-evening-10895
END:VEVENT

END:VCALENDAR
