BEGIN:VCALENDAR
VERSION:2.0
PRODID:-//ChamberMaster//Event Calendar 2.0//EN
METHOD:PUBLISH
X-PUBLISHED-TTL:P3D
REFRESH-INTERVAL:P3D
CALSCALE:GREGORIAN
BEGIN:VEVENT
DTSTART:20220403T180000Z
DTEND:20220403T200000Z
X-MICROSOFT-CDO-ALLDAYEVENT:FALSE
SUMMARY:MDMS 2022-String Solstice
DESCRIPTION:MDMS is honored to host the 2022 Debut Performance Program of Michael Welch\, Jennifer Kessler\, Chip Lamson\, Christian Hosmer\, and Larry Baycura!
X-ALT-DESC;FMTTYPE=text/html:MDMS is honored to host the 2022 Debut Performance Program of Michael Welch\, Jennifer Kessler\, Chip Lamson\, Christian Hosmer\, and Larry Baycura!
LOCATION:Madrid Municipal Park Community Building 3529 CR 14 Madrid\, NY 13660
UID:e.2288.10894
SEQUENCE:3
DTSTAMP:20260420T230925Z
URL:http://business.visitstlc.com/events/details/mdms-2022-string-solstice-10894
END:VEVENT

END:VCALENDAR
